BEGIN:VCALENDAR
VERSION:2.0
PRODID:-//https://www.denbighchristianacademy.com//NONSGML kigkonsult.se iC
 alcreator 2.29.29//
CALSCALE:GREGORIAN
METHOD:PUBLISH
UID:3874010b-51cc-4c18-b057-785bd842bc0e
X-WR-CALNAME:JCal Pro Calendar
X-WR-CALDESC:Your online events calendar
X-WR-TIMEZONE:UTC
BEGIN:VTIMEZONE
TZID:UTC
END:VTIMEZONE
BEGIN:VEVENT
UID:20201119T140000UTC-6945TUZW0R@http://www.denbighchristianacademy.com/
DTSTAMP:20260424T181528Z
CATEGORIES:School Menu
DESCRIPTION:<p>Closed for Thanksgiving</p>
DTSTART:20201126T000000Z
DTEND:20201126T235959Z
SUMMARY:Thursday - Closed
URL:https://www.denbighchristianacademy.com/index.php/school-calendar/lunch
 -menu/10-school-menu/443-thursday-closed
X-ALT-DESC;FMTTYPE=TEXT/HTML:<p>Closed for Thanksgiving</p>
END:VEVENT
END:VCALENDAR
