BEGIN:VCALENDAR
VERSION:2.0
PRODID:-//https://www.denbighchristianacademy.com//NONSGML kigkonsult.se iC
 alcreator 2.29.29//
CALSCALE:GREGORIAN
METHOD:PUBLISH
UID:5265dd6b-5137-4074-883f-84886b1be67d
X-WR-CALNAME:JCal Pro Calendar
X-WR-CALDESC:Your online events calendar
X-WR-TIMEZONE:UTC
BEGIN:VTIMEZONE
TZID:UTC
END:VTIMEZONE
BEGIN:VEVENT
UID:20200813T150000UTC-3659gDMG9c@http://www.denbighchristianacademy.com/
DTSTAMP:20260424T150758Z
CATEGORIES:School Menu
DESCRIPTION:<p><span style='text-decoration: underline\;'><strong>Breakfast
 </strong></span></p>\n<p>1/4-1/2 cup Oatmeal<br />1/4-1/2 cup Pineapple<br
  />Cereal (optional)<br />6 oz. 1% Milk (8 oz for ages 6-12)</p>\n<p><br /
 ><span style='text-decoration: underline\;'><strong>AM Snack</strong></spa
 n></p>\n<p>1/4 cup Teddy Grahams<br />4 oz 1% Milk (8 oz for ages 6-12)</p
 >\n<p><br /><span style='text-decoration: underline\;'><strong>Lunch</stro
 ng></span></p>\n<p>1 1/2 oz Chicken Tenders<br />1/4 cup Peas &amp\; Carro
 ts<br />1/4 cup Pineapple<br />6 oz.1% Milk (ages 6-12 8 oz)</p>\n<p><br /
 ><span style='text-decoration: underline\;'><strong>PM Snack</strong></spa
 n></p>\n<p>1/4 cup Cheez-it Crackers<br />4 oz 100% Apple Juice (8 oz for 
 ages 6-12)</p>
DTSTART:20200813T000000Z
DTEND:20200813T235959Z
SUMMARY:Thursday
URL:https://www.denbighchristianacademy.com/index.php/school-calendar/lunch
 -menu/10-school-menu/368-thursday
X-ALT-DESC;FMTTYPE=TEXT/HTML:<p><span style='text-decoration: underline\;'>
 <strong>Breakfast</strong></span></p>\n<p>1/4-1/2 cup Oatmeal<br />1/4-1/2
  cup Pineapple<br />Cereal (optional)<br />6 oz. 1% Milk (8 oz for ages 6-
 12)</p>\n<p><br /><span style='text-decoration: underline\;'><strong>AM Sn
 ack</strong></span></p>\n<p>1/4 cup Teddy Grahams<br />4 oz 1% Milk (8 oz 
 for ages 6-12)</p>\n<p><br /><span style='text-decoration: underline\;'><s
 trong>Lunch</strong></span></p>\n<p>1 1/2 oz Chicken Tenders<br />1/4 cup 
 Peas &amp\; Carrots<br />1/4 cup Pineapple<br />6 oz.1% Milk (ages 6-12 8 
 oz)</p>\n<p><br /><span style='text-decoration: underline\;'><strong>PM Sn
 ack</strong></span></p>\n<p>1/4 cup Cheez-it Crackers<br />4 oz 100% Apple
  Juice (8 oz for ages 6-12)</p>
END:VEVENT
END:VCALENDAR
