BEGIN:VCALENDAR
VERSION:2.0
PRODID:-//https://www.denbighchristianacademy.com//NONSGML kigkonsult.se iC
 alcreator 2.29.29//
CALSCALE:GREGORIAN
METHOD:PUBLISH
UID:c268d177-acde-4f6d-b62d-d4a8bd753e19
X-WR-CALNAME:JCal Pro Calendar
X-WR-CALDESC:Your online events calendar
X-WR-TIMEZONE:UTC
BEGIN:VTIMEZONE
TZID:UTC
END:VTIMEZONE
BEGIN:VEVENT
UID:20200804T150000UTC-0871rbLTdJ@http://www.denbighchristianacademy.com/
DTSTAMP:20260424T115844Z
CATEGORIES:School Menu
DESCRIPTION:<p><span style='text-decoration: underline\;'><strong>Breakfast
 </strong></span></p>\n<p>Bagels &amp\; Cream Cheese<br />1/4-1/2 cup Pinea
 pple<br />Cereal (optional)<br />6 oz. 1% Milk (8 oz for ages 6-12)</p>\n<
 p><br /><span style='text-decoration: underline\;'><strong>AM Snack</stron
 g></span></p>\n<p>1 Cracker &amp\; 1/2 oz Cheese Cubes<br />4 oz Water (8 
 oz for ages 6-12)</p>\n<p><br /><span style='text-decoration: underline\;'
 ><strong>Lunch</strong></span></p>\n<p>1 1/2 oz Chicken &amp\; Dumplins<br
  />1/4 cup Mixed Vegetables<br />1/4 cup Pineapple<br />6 oz.1% Milk (ages
  6-12 8 oz)</p>\n<p><br /><span style='text-decoration: underline\;'><stro
 ng>PM Snack</strong></span></p>\n<p>Graham Cracker<br />4 oz 1% Milk (8 oz
  for ages 6-12)</p>
DTSTART:20200804T000000Z
DTEND:20200804T235959Z
SUMMARY:Tuesday
URL:https://www.denbighchristianacademy.com/index.php/school-calendar/lunch
 -menu/10-school-menu/361-tuesday
X-ALT-DESC;FMTTYPE=TEXT/HTML:<p><span style='text-decoration: underline\;'>
 <strong>Breakfast</strong></span></p>\n<p>Bagels &amp\; Cream Cheese<br />
 1/4-1/2 cup Pineapple<br />Cereal (optional)<br />6 oz. 1% Milk (8 oz for 
 ages 6-12)</p>\n<p><br /><span style='text-decoration: underline\;'><stron
 g>AM Snack</strong></span></p>\n<p>1 Cracker &amp\; 1/2 oz Cheese Cubes<br
  />4 oz Water (8 oz for ages 6-12)</p>\n<p><br /><span style='text-decorat
 ion: underline\;'><strong>Lunch</strong></span></p>\n<p>1 1/2 oz Chicken &
 amp\; Dumplins<br />1/4 cup Mixed Vegetables<br />1/4 cup Pineapple<br />6
  oz.1% Milk (ages 6-12 8 oz)</p>\n<p><br /><span style='text-decoration: u
 nderline\;'><strong>PM Snack</strong></span></p>\n<p>Graham Cracker<br />4
  oz 1% Milk (8 oz for ages 6-12)</p>
END:VEVENT
END:VCALENDAR
