BEGIN:VCALENDAR
VERSION:2.0
PRODID:-//https://www.denbighchristianacademy.com//NONSGML kigkonsult.se iC
 alcreator 2.29.29//
CALSCALE:GREGORIAN
METHOD:PUBLISH
UID:9b870d4a-f59f-4177-84fe-df789551cd1b
X-WR-CALNAME:JCal Pro Calendar
X-WR-CALDESC:Your online events calendar
X-WR-TIMEZONE:UTC
BEGIN:VTIMEZONE
TZID:UTC
END:VTIMEZONE
BEGIN:VEVENT
UID:20200525T170000UTC-2406JXr4Ui@http://www.denbighchristianacademy.com/
DTSTAMP:20260424T101711Z
CATEGORIES:School Menu
DESCRIPTION:<p>Holiday - Closed</p>
DTSTART:20200525T000000Z
DTEND:20200525T235959Z
SUMMARY:Monday-Holiday-Closed
URL:https://www.denbighchristianacademy.com/index.php/school-calendar/lunch
 -menu/10-school-menu/244-monday-holiday-closed
X-ALT-DESC;FMTTYPE=TEXT/HTML:<p>Holiday - Closed</p>
END:VEVENT
END:VCALENDAR
