BEGIN:VCALENDAR
VERSION:2.0
PRODID:-//https://www.denbighchristianacademy.com//NONSGML kigkonsult.se iC
 alcreator 2.29.29//
CALSCALE:GREGORIAN
METHOD:PUBLISH
UID:5730729d-d81c-4aa2-b376-4b398c14454b
X-WR-CALNAME:JCal Pro Calendar
X-WR-CALDESC:Your online events calendar
X-WR-TIMEZONE:UTC
BEGIN:VTIMEZONE
TZID:UTC
END:VTIMEZONE
BEGIN:VEVENT
UID:20200521T190000UTC-2479n7Uvvh@http://www.denbighchristianacademy.com/
DTSTAMP:20260424T164240Z
CATEGORIES:School Menu
DESCRIPTION:<p><span style='text-decoration: underline\;'><strong>Breakfast
 </strong></span></p>\n<p>1/4-1/2 cup Oatmeal<br />1/4-1/2 cup Pineapple<br
  />Cereal (optional)<br />6 oz. 1% Milk (8 oz for ages 6-12)</p>\n<p><br /
 ><span style='text-decoration: underline\;'><strong>AM Snack</strong></spa
 n></p>\n<p>1 Teddy Grahams<br />4 oz 1% Milk (8 oz for ages 6-12)</p>\n<p>
 <br /><span style='text-decoration: underline\;'><strong>Lunch</strong></s
 pan></p>\n<p>1 1/2 oz Chicken Tenders<br />1/4 cup Peas &amp\; Carrots<br 
 />1/4 cup Pineapples<br />6 oz.1% Milk (ages 6-12 8 oz)</p>\n<p><br /><spa
 n style='text-decoration: underline\;'><strong>PM Snack</strong></span></p
 >\n<p>1/4 cup Cheez-it Crackers<br />4 oz 100% Apple Juice (8 oz for ages 
 6-12)</p>
DTSTART:20200521T000000Z
DTEND:20200521T235959Z
SUMMARY:Thursday
URL:https://www.denbighchristianacademy.com/index.php/school-calendar/lunch
 -menu/10-school-menu/242-thursday
X-ALT-DESC;FMTTYPE=TEXT/HTML:<p><span style='text-decoration: underline\;'>
 <strong>Breakfast</strong></span></p>\n<p>1/4-1/2 cup Oatmeal<br />1/4-1/2
  cup Pineapple<br />Cereal (optional)<br />6 oz. 1% Milk (8 oz for ages 6-
 12)</p>\n<p><br /><span style='text-decoration: underline\;'><strong>AM Sn
 ack</strong></span></p>\n<p>1 Teddy Grahams<br />4 oz 1% Milk (8 oz for ag
 es 6-12)</p>\n<p><br /><span style='text-decoration: underline\;'><strong>
 Lunch</strong></span></p>\n<p>1 1/2 oz Chicken Tenders<br />1/4 cup Peas &
 amp\; Carrots<br />1/4 cup Pineapples<br />6 oz.1% Milk (ages 6-12 8 oz)</
 p>\n<p><br /><span style='text-decoration: underline\;'><strong>PM Snack</
 strong></span></p>\n<p>1/4 cup Cheez-it Crackers<br />4 oz 100% Apple Juic
 e (8 oz for ages 6-12)</p>
END:VEVENT
END:VCALENDAR
