BEGIN:VCALENDAR
VERSION:2.0
PRODID:-//https://www.denbighchristianacademy.com//NONSGML kigkonsult.se iC
 alcreator 2.29.29//
CALSCALE:GREGORIAN
METHOD:PUBLISH
UID:9b457ddc-d7da-4e73-bc09-ec4ad63de7a7
X-WR-CALNAME:JCal Pro Calendar
X-WR-CALDESC:Your online events calendar
X-WR-TIMEZONE:UTC
BEGIN:VTIMEZONE
TZID:UTC
END:VTIMEZONE
BEGIN:VEVENT
UID:20260430T180000UTC-4247vTAuue@https://www.denbighchristianacademy.com/
DTSTAMP:20260425T002636Z
CATEGORIES:School Menu
DESCRIPTION:<p><span style='text-decoration: underline\;'><strong>Breakfast
 </strong></span></p>\n<p><br />1/4-1/2 cup Cream of Wheat<br />1/4-1/2 cup
  Mixed Fruit<br />1/4-1/2 cup Cereal (optional)<br />6 oz. Milk (8 oz for 
 ages 6-12)</p>\n<p><br /><span style='text-decoration: underline\;'><stron
 g>AM Snack</strong></span></p>\n<p>2 oz Seedless Grapes<br />2 oz Saltine 
 Crackers<br />4 oz Water (8 oz for ages 6-12)</p>\n<p><br /><span style='t
 ext-decoration: underline\;'><strong>Lunch</strong></span></p>\n<p>1/2 - 1
  cup Spaghetti w/Meat Sauce<br />Garlic Bread Stick<br />1/4-1/2 cup Tosse
 d Salad w/Dressing<br />1/4 cup Fruit Cocktail<br />6 oz.Milk (ages 6-12 8
  oz)</p>\n<p><br /><span style='text-decoration: underline\;'><strong>PM S
 nack</strong></span></p>\n<p>1 oz pk Fruit Snacks<br />4 oz Milk (8 oz for
  ages 6-12)</p>
DTSTART:20260430T000000Z
DTEND:20260430T235959Z
SUMMARY:Thursday
URL:https://www.denbighchristianacademy.com/index.php/school-calendar/lunch
 -menu/10-school-menu/2046-thursday
X-ALT-DESC;FMTTYPE=TEXT/HTML:<p><span style='text-decoration: underline\;'>
 <strong>Breakfast</strong></span></p>\n<p><br />1/4-1/2 cup Cream of Wheat
 <br />1/4-1/2 cup Mixed Fruit<br />1/4-1/2 cup Cereal (optional)<br />6 oz
 . Milk (8 oz for ages 6-12)</p>\n<p><br /><span style='text-decoration: un
 derline\;'><strong>AM Snack</strong></span></p>\n<p>2 oz Seedless Grapes<b
 r />2 oz Saltine Crackers<br />4 oz Water (8 oz for ages 6-12)</p>\n<p><br
  /><span style='text-decoration: underline\;'><strong>Lunch</strong></span
 ></p>\n<p>1/2 - 1 cup Spaghetti w/Meat Sauce<br />Garlic Bread Stick<br />
 1/4-1/2 cup Tossed Salad w/Dressing<br />1/4 cup Fruit Cocktail<br />6 oz.
 Milk (ages 6-12 8 oz)</p>\n<p><br /><span style='text-decoration: underlin
 e\;'><strong>PM Snack</strong></span></p>\n<p>1 oz pk Fruit Snacks<br />4 
 oz Milk (8 oz for ages 6-12)</p>
END:VEVENT
END:VCALENDAR
