BEGIN:VCALENDAR
VERSION:2.0
PRODID:-//https://www.denbighchristianacademy.com//NONSGML kigkonsult.se iC
 alcreator 2.29.29//
CALSCALE:GREGORIAN
METHOD:PUBLISH
UID:5ff7317e-7844-4443-b30e-f513ff4e8e1b
X-WR-CALNAME:JCal Pro Calendar
X-WR-CALDESC:Your online events calendar
X-WR-TIMEZONE:UTC
BEGIN:VTIMEZONE
TZID:UTC
END:VTIMEZONE
BEGIN:VEVENT
UID:20260429T180000UTC-04129lZsei@https://www.denbighchristianacademy.com/
DTSTAMP:20260425T014059Z
CATEGORIES:School Menu
DESCRIPTION:<p><span style='text-decoration: underline\;'><strong>Breakfast
 </strong></span></p>\n<p><br />1 1/2 - 3 oz Blueberry Muffins<br />1/4-1/2
  cup Mixed Fruit<br />1/4-1/2 cup Cereal (optional)<br />6 oz. Milk (8 oz 
 for ages 6-12)</p>\n<p><br /><span style='text-decoration: underline\;'><s
 trong>AM Snack</strong></span></p>\n<p>1 oz Cheese Stick<br />2 oz Ritz Cr
 ackers<br />4 oz Water (8 oz for ages 6-12)</p>\n<p><br /><span style='tex
 t-decoration: underline\;'><strong>Lunch</strong></span></p>\n<p>1 1/2 - 3
  oz Baked Chicken Tenders<br />WW Bun<br />1/4-1/2 cup Mixed Vegetables<br
  />1/4 cup Fruit<br />6 oz.Milk (ages 6-12 8 oz)</p>\n<p><br /><span style
 ='text-decoration: underline\;'><strong>PM Snack</strong></span></p>\n<p>1
  oz pk Lorna Doone Cookies<br />4 oz Milk (8 oz for ages 6-12)</p>
DTSTART:20260429T000000Z
DTEND:20260429T235959Z
SUMMARY:Wednesday
URL:https://www.denbighchristianacademy.com/index.php/school-calendar/lunch
 -menu/10-school-menu/2045-wednesday
X-ALT-DESC;FMTTYPE=TEXT/HTML:<p><span style='text-decoration: underline\;'>
 <strong>Breakfast</strong></span></p>\n<p><br />1 1/2 - 3 oz Blueberry Muf
 fins<br />1/4-1/2 cup Mixed Fruit<br />1/4-1/2 cup Cereal (optional)<br />
 6 oz. Milk (8 oz for ages 6-12)</p>\n<p><br /><span style='text-decoration
 : underline\;'><strong>AM Snack</strong></span></p>\n<p>1 oz Cheese Stick<
 br />2 oz Ritz Crackers<br />4 oz Water (8 oz for ages 6-12)</p>\n<p><br /
 ><span style='text-decoration: underline\;'><strong>Lunch</strong></span><
 /p>\n<p>1 1/2 - 3 oz Baked Chicken Tenders<br />WW Bun<br />1/4-1/2 cup Mi
 xed Vegetables<br />1/4 cup Fruit<br />6 oz.Milk (ages 6-12 8 oz)</p>\n<p>
 <br /><span style='text-decoration: underline\;'><strong>PM Snack</strong>
 </span></p>\n<p>1 oz pk Lorna Doone Cookies<br />4 oz Milk (8 oz for ages 
 6-12)</p>
END:VEVENT
END:VCALENDAR
