BEGIN:VCALENDAR
VERSION:2.0
PRODID:-//https://www.denbighchristianacademy.com//NONSGML kigkonsult.se iC
 alcreator 2.29.29//
CALSCALE:GREGORIAN
METHOD:PUBLISH
UID:c14db468-5a10-47b0-b634-0f23c91adcac
X-WR-CALNAME:JCal Pro Calendar
X-WR-CALDESC:Your online events calendar
X-WR-TIMEZONE:UTC
BEGIN:VTIMEZONE
TZID:UTC
END:VTIMEZONE
BEGIN:VEVENT
UID:20260427T180000UTC-4533TTFpte@https://www.denbighchristianacademy.com/
DTSTAMP:20260425T014059Z
CATEGORIES:School Menu
DESCRIPTION:<p><span style='text-decoration: underline\;'><strong>Breakfast
 </strong></span></p>\n<p><br />1 oz Turkey Bacon<br />WW Toast<br />1/4-1/
 2 cup Fruit<br />1/4-1/2 cup Cereal (optional)<br />6 oz. Milk (8 oz for a
 ges 6-12)</p>\n<p><br /><span style='text-decoration: underline\;'><strong
 >AM Snack</strong></span></p>\n<p>1 1/2 oz pk Cheez-it Crackers<br />4 oz 
 Milk (8 oz for ages 6-12)</p>\n<p><br /><span style='text-decoration: unde
 rline\;'><strong>Lunch</strong></span></p>\n<p>1/2 - 1 cup Mac &amp\; Chee
 se<br />WW Bread<br />1/4-1/2 cup Brocoli<br />1/4 cup Fruit<br />6 oz.Mil
 k (ages 6-12 8 oz)</p>\n<p><br /><span style='text-decoration: underline\;
 '><strong>PM Snack</strong></span></p>\n<p>2 oz Chocolate Chip Cookies<br 
 />4 oz Milk (8 oz for ages 6-12)</p>
DTSTART:20260427T000000Z
DTEND:20260427T235959Z
SUMMARY:Monday
URL:https://www.denbighchristianacademy.com/index.php/school-calendar/lunch
 -menu/10-school-menu/2043-monday
X-ALT-DESC;FMTTYPE=TEXT/HTML:<p><span style='text-decoration: underline\;'>
 <strong>Breakfast</strong></span></p>\n<p><br />1 oz Turkey Bacon<br />WW 
 Toast<br />1/4-1/2 cup Fruit<br />1/4-1/2 cup Cereal (optional)<br />6 oz.
  Milk (8 oz for ages 6-12)</p>\n<p><br /><span style='text-decoration: und
 erline\;'><strong>AM Snack</strong></span></p>\n<p>1 1/2 oz pk Cheez-it Cr
 ackers<br />4 oz Milk (8 oz for ages 6-12)</p>\n<p><br /><span style='text
 -decoration: underline\;'><strong>Lunch</strong></span></p>\n<p>1/2 - 1 cu
 p Mac &amp\; Cheese<br />WW Bread<br />1/4-1/2 cup Brocoli<br />1/4 cup Fr
 uit<br />6 oz.Milk (ages 6-12 8 oz)</p>\n<p><br /><span style='text-decora
 tion: underline\;'><strong>PM Snack</strong></span></p>\n<p>2 oz Chocolate
  Chip Cookies<br />4 oz Milk (8 oz for ages 6-12)</p>
END:VEVENT
END:VCALENDAR
