BEGIN:VCALENDAR
VERSION:2.0
PRODID:-//https://www.denbighchristianacademy.com//NONSGML kigkonsult.se iC
 alcreator 2.29.29//
CALSCALE:GREGORIAN
METHOD:PUBLISH
UID:0b186a47-0f43-4b6b-b059-60cbee443fd8
X-WR-CALNAME:JCal Pro Calendar
X-WR-CALDESC:Your online events calendar
X-WR-TIMEZONE:UTC
BEGIN:VTIMEZONE
TZID:UTC
END:VTIMEZONE
BEGIN:VEVENT
UID:20260421T170000UTC-8843buonoA@https://www.denbighchristianacademy.com/
DTSTAMP:20260422T131612Z
CATEGORIES:School Menu
DESCRIPTION:<p><span style='text-decoration: underline\;'><strong>Breakfast
 </strong></span></p>\n<p><br />1/4-1/2 cup&nbsp\;Oatmeal<br />1/4-1/2 cup 
 Fruit<br />1/4-1/2 cup Cereal (optional)<br />6 oz. Milk (8 oz for ages 6-
 12)</p>\n<p><br /><span style='text-decoration: underline\;'><strong>AM Sn
 ack</strong></span></p>\n<p>2 oz WG Ritz Crackers<br />1/2 - 1 whole Apple
 <br />4 oz Water (8 oz for ages 6-12)</p>\n<p><br /><span style='text-deco
 ration: underline\;'><strong>Lunch</strong></span></p>\n<p>1/4-1/2 cup BBQ
  Chicken<br />WW Bun<br />1/4-1/2 cup Cole Slaw<br />1/4 cup Fruit<br />6 
 oz.Milk (ages 6-12 8 oz)</p>\n<p><br /><span style='text-decoration: under
 line\;'><strong>PM Snack</strong></span></p>\n<p>1 oz bag Rits Bits Cracke
 rs w/Cheese<br />4 oz Milk (8 oz for ages 6-12)</p>
DTSTART:20260421T000000Z
DTEND:20260421T235959Z
SUMMARY:Tuesday
URL:https://www.denbighchristianacademy.com/index.php/school-calendar/lunch
 -menu/10-school-menu/2038-tuesday
X-ALT-DESC;FMTTYPE=TEXT/HTML:<p><span style='text-decoration: underline\;'>
 <strong>Breakfast</strong></span></p>\n<p><br />1/4-1/2 cup&nbsp\;Oatmeal<
 br />1/4-1/2 cup Fruit<br />1/4-1/2 cup Cereal (optional)<br />6 oz. Milk 
 (8 oz for ages 6-12)</p>\n<p><br /><span style='text-decoration: underline
 \;'><strong>AM Snack</strong></span></p>\n<p>2 oz WG Ritz Crackers<br />1/
 2 - 1 whole Apple<br />4 oz Water (8 oz for ages 6-12)</p>\n<p><br /><span
  style='text-decoration: underline\;'><strong>Lunch</strong></span></p>\n<
 p>1/4-1/2 cup BBQ Chicken<br />WW Bun<br />1/4-1/2 cup Cole Slaw<br />1/4 
 cup Fruit<br />6 oz.Milk (ages 6-12 8 oz)</p>\n<p><br /><span style='text-
 decoration: underline\;'><strong>PM Snack</strong></span></p>\n<p>1 oz bag
  Rits Bits Crackers w/Cheese<br />4 oz Milk (8 oz for ages 6-12)</p>
END:VEVENT
END:VCALENDAR
