BEGIN:VCALENDAR
VERSION:2.0
PRODID:-//https://www.denbighchristianacademy.com//NONSGML kigkonsult.se iC
 alcreator 2.29.29//
CALSCALE:GREGORIAN
METHOD:PUBLISH
UID:4d8f9d77-e8c7-4c3d-9b8b-491c54dd2cf9
X-WR-CALNAME:JCal Pro Calendar
X-WR-CALDESC:Your online events calendar
X-WR-TIMEZONE:UTC
BEGIN:VTIMEZONE
TZID:UTC
END:VTIMEZONE
BEGIN:VEVENT
UID:20260413T120000UTC-1012avZ20O@https://www.denbighchristianacademy.com/
DTSTAMP:20260422T125532Z
CATEGORIES:School Menu
DESCRIPTION:<p><span style='text-decoration: underline\;'><strong>Breakfast
 </strong></span></p>\n<p><br />2 oz French Toast<br />1/4-1/2 cup Fruit<br
  />1/4-1/2 cup Cereal (optional)<br />6 oz. Milk (8 oz for ages 6-12)</p>
 \n<p><br /><span style='text-decoration: underline\;'><strong>AM Snack</st
 rong></span></p>\n<p>1 oz bag Goldfish<br />4 oz Milk (8 oz for ages 6-12)
 </p>\n<p><br /><span style='text-decoration: underline\;'><strong>Lunch</s
 trong></span></p>\n<p>2 - 4 oz Meatlooaf w/Gravy<br />WW Bread<br />1/4-1/
 2 cup Mashed Potatoes<br />1/4-1/2 Mixed Vegetables<br />1/4 cup Fruit<br 
 />6 oz.Milk (ages 6-12 8 oz)</p>\n<p><br /><span style='text-decoration: u
 nderline\;'><strong>PM Snack</strong></span></p>\n<p>1 (.78 oz) Bar Rice K
 rispy Treat<br />4 oz Milk (8 oz for ages 6-12)</p>
DTSTART:20260413T000000Z
DTEND:20260413T235959Z
SUMMARY:Monday
URL:https://www.denbighchristianacademy.com/index.php/school-calendar/lunch
 -menu/10-school-menu/2032-monday
X-ALT-DESC;FMTTYPE=TEXT/HTML:<p><span style='text-decoration: underline\;'>
 <strong>Breakfast</strong></span></p>\n<p><br />2 oz French Toast<br />1/4
 -1/2 cup Fruit<br />1/4-1/2 cup Cereal (optional)<br />6 oz. Milk (8 oz fo
 r ages 6-12)</p>\n<p><br /><span style='text-decoration: underline\;'><str
 ong>AM Snack</strong></span></p>\n<p>1 oz bag Goldfish<br />4 oz Milk (8 o
 z for ages 6-12)</p>\n<p><br /><span style='text-decoration: underline\;'>
 <strong>Lunch</strong></span></p>\n<p>2 - 4 oz Meatlooaf w/Gravy<br />WW B
 read<br />1/4-1/2 cup Mashed Potatoes<br />1/4-1/2 Mixed Vegetables<br />1
 /4 cup Fruit<br />6 oz.Milk (ages 6-12 8 oz)</p>\n<p><br /><span style='te
 xt-decoration: underline\;'><strong>PM Snack</strong></span></p>\n<p>1 (.7
 8 oz) Bar Rice Krispy Treat<br />4 oz Milk (8 oz for ages 6-12)</p>
END:VEVENT
END:VCALENDAR
