BEGIN:VCALENDAR
VERSION:2.0
PRODID:-//https://www.denbighchristianacademy.com//NONSGML kigkonsult.se iC
 alcreator 2.29.29//
CALSCALE:GREGORIAN
METHOD:PUBLISH
UID:0c3c65a6-44a8-4da9-b85f-e1c2d031d94d
X-WR-CALNAME:JCal Pro Calendar
X-WR-CALDESC:Your online events calendar
X-WR-TIMEZONE:UTC
BEGIN:VTIMEZONE
TZID:UTC
END:VTIMEZONE
BEGIN:VEVENT
UID:20260409T140000UTC-1631BsmTgh@https://www.denbighchristianacademy.com/
DTSTAMP:20260422T131503Z
CATEGORIES:School Menu
DESCRIPTION:<p><span style='text-decoration: underline\;'><strong>Breakfast
 </strong></span></p>\n<p><br />1 1/2 oz Pancakes<br />1/4-1/2 cup Mixed Fr
 uit<br />1/4-1/2 cup Cereal (optional)<br />6 oz. Milk (8 oz for ages 6-12
 )</p>\n<p><br /><span style='text-decoration: underline\;'><strong>AM Snac
 k</strong></span></p>\n<p>2 oz Seedless Grapes<br />2 oz Saltine Crackers<
 br />4 oz Water (8 oz for ages 6-12)</p>\n<p><br /><span style='text-decor
 ation: underline\;'><strong>Lunch</strong></span></p>\n<p>3 oz Fried Chick
 en Leg<br />WW Bread<br />1/4-1/2 cup Mixed Vegetables<br />1/4 cup Fruit<
 br />6 oz.Milk (ages 6-12 8 oz)</p>\n<p><br /><span style='text-decoration
 : underline\;'><strong>PM Snack</strong></span></p>\n<p>1 oz bag Ritz Bits
  Crackers w/Cheese<br />4 oz Milk (8 oz for ages 6-12)</p>
DTSTART:20260409T000000Z
DTEND:20260409T235959Z
SUMMARY:Thursday
URL:https://www.denbighchristianacademy.com/index.php/school-calendar/lunch
 -menu/10-school-menu/2030-thursday
X-ALT-DESC;FMTTYPE=TEXT/HTML:<p><span style='text-decoration: underline\;'>
 <strong>Breakfast</strong></span></p>\n<p><br />1 1/2 oz Pancakes<br />1/4
 -1/2 cup Mixed Fruit<br />1/4-1/2 cup Cereal (optional)<br />6 oz. Milk (8
  oz for ages 6-12)</p>\n<p><br /><span style='text-decoration: underline\;
 '><strong>AM Snack</strong></span></p>\n<p>2 oz Seedless Grapes<br />2 oz 
 Saltine Crackers<br />4 oz Water (8 oz for ages 6-12)</p>\n<p><br /><span 
 style='text-decoration: underline\;'><strong>Lunch</strong></span></p>\n<p
 >3 oz Fried Chicken Leg<br />WW Bread<br />1/4-1/2 cup Mixed Vegetables<br
  />1/4 cup Fruit<br />6 oz.Milk (ages 6-12 8 oz)</p>\n<p><br /><span style
 ='text-decoration: underline\;'><strong>PM Snack</strong></span></p>\n<p>1
  oz bag Ritz Bits Crackers w/Cheese<br />4 oz Milk (8 oz for ages 6-12)</p
 >
END:VEVENT
END:VCALENDAR
