BEGIN:VCALENDAR
VERSION:2.0
PRODID:-//https://www.denbighchristianacademy.com//NONSGML kigkonsult.se iC
 alcreator 2.29.29//
CALSCALE:GREGORIAN
METHOD:PUBLISH
UID:df533238-9bf8-4be3-9ebc-3f9f1f5dc7af
X-WR-CALNAME:JCal Pro Calendar
X-WR-CALDESC:Your online events calendar
X-WR-TIMEZONE:UTC
BEGIN:VTIMEZONE
TZID:UTC
END:VTIMEZONE
BEGIN:VEVENT
UID:20260407T130000UTC-5759IdO1XP@https://www.denbighchristianacademy.com/
DTSTAMP:20260422T131612Z
CATEGORIES:School Menu
DESCRIPTION:<p><span style='text-decoration: underline\;'><strong>Breakfast
 </strong></span></p>\n<p><br />2 oz Waffles<br />1/4-1/2 cup Peaches<br />
 1/4-1/2 cup Cereal (optional)<br />6 oz. Milk (8 oz for ages 6-12)</p>\n<p
 ><br /><span style='text-decoration: underline\;'><strong>AM Snack</strong
 ></span></p>\n<p>1/2 - 1 whole Orange<br />2 oz Graham Crackers<br />4 oz 
 Water (8 oz for ages 6-12)</p>\n<p><br /><span style='text-decoration: und
 erline\;'><strong>Lunch</strong></span></p>\n<p>2 - 4 oz Macaroni &amp\; C
 heese<br />WW Bread<br />1/4-1/2 cup Green Beans<br />1/4 cup Fruit<br />6
  oz. (ages 6-12 8 oz)</p>\n<p><br /><span style='text-decoration: underlin
 e\;'><strong>PM Snack</strong></span></p>\n<p>2 oz pk Lorna Doone Cookies<
 br />4 oz Milk (8 oz for ages 6-12)</p>
DTSTART:20260407T000000Z
DTEND:20260407T235959Z
SUMMARY:Tuesday
URL:https://www.denbighchristianacademy.com/index.php/school-calendar/lunch
 -menu/10-school-menu/2028-tuesday
X-ALT-DESC;FMTTYPE=TEXT/HTML:<p><span style='text-decoration: underline\;'>
 <strong>Breakfast</strong></span></p>\n<p><br />2 oz Waffles<br />1/4-1/2 
 cup Peaches<br />1/4-1/2 cup Cereal (optional)<br />6 oz. Milk (8 oz for a
 ges 6-12)</p>\n<p><br /><span style='text-decoration: underline\;'><strong
 >AM Snack</strong></span></p>\n<p>1/2 - 1 whole Orange<br />2 oz Graham Cr
 ackers<br />4 oz Water (8 oz for ages 6-12)</p>\n<p><br /><span style='tex
 t-decoration: underline\;'><strong>Lunch</strong></span></p>\n<p>2 - 4 oz 
 Macaroni &amp\; Cheese<br />WW Bread<br />1/4-1/2 cup Green Beans<br />1/4
  cup Fruit<br />6 oz. (ages 6-12 8 oz)</p>\n<p><br /><span style='text-dec
 oration: underline\;'><strong>PM Snack</strong></span></p>\n<p>2 oz pk Lor
 na Doone Cookies<br />4 oz Milk (8 oz for ages 6-12)</p>
END:VEVENT
END:VCALENDAR
