BEGIN:VCALENDAR
VERSION:2.0
PRODID:-//https://www.denbighchristianacademy.com//NONSGML kigkonsult.se iC
 alcreator 2.29.29//
CALSCALE:GREGORIAN
METHOD:PUBLISH
UID:e32572f2-739f-4342-bd43-92356ed6526f
X-WR-CALNAME:JCal Pro Calendar
X-WR-CALDESC:Your online events calendar
X-WR-TIMEZONE:UTC
BEGIN:VTIMEZONE
TZID:UTC
END:VTIMEZONE
BEGIN:VEVENT
UID:20260119T180000UTC-5606Zdu79i@https://www.denbighchristianacademy.com/
DTSTAMP:20260424T133441Z
CATEGORIES:School Menu
DESCRIPTION:<p>DCA closed for Marting Luther King Day.</p>
DTSTART:20260119T000000Z
DTEND:20260119T235959Z
SUMMARY:Monday - DCA CLOSED
URL:https://www.denbighchristianacademy.com/index.php/school-calendar/lunch
 -menu/10-school-menu/1972-monday-dca-closed
X-ALT-DESC;FMTTYPE=TEXT/HTML:<p>DCA closed for Marting Luther King Day.</p>
END:VEVENT
END:VCALENDAR
