BEGIN:VCALENDAR
VERSION:2.0
PRODID:-//https://www.denbighchristianacademy.com//NONSGML kigkonsult.se iC
 alcreator 2.29.29//
CALSCALE:GREGORIAN
METHOD:PUBLISH
UID:1a910d48-1f53-48e6-9862-26032d00d7c0
X-WR-CALNAME:JCal Pro Calendar
X-WR-CALDESC:Your online events calendar
X-WR-TIMEZONE:UTC
BEGIN:VTIMEZONE
TZID:UTC
END:VTIMEZONE
BEGIN:VEVENT
UID:20250526T180000UTC-6351H7rSUK@https://www.denbighchristianacademy.com/
DTSTAMP:20260424T181925Z
CATEGORIES:School Menu
DESCRIPTION:<p>All of DCA is closed Monday for Memorial Day.</p>
DTSTART:20250526T000000Z
DTEND:20250526T235959Z
SUMMARY:Monday - Closed for Memorial Day
URL:https://www.denbighchristianacademy.com/index.php/school-calendar/lunch
 -menu/10-school-menu/1761-monday-closed-for-memorial-day
X-ALT-DESC;FMTTYPE=TEXT/HTML:<p>All of DCA is closed Monday for Memorial Da
 y.</p>
END:VEVENT
END:VCALENDAR
