BEGIN:VCALENDAR
VERSION:2.0
PRODID:-//https://www.denbighchristianacademy.com//NONSGML kigkonsult.se iC
 alcreator 2.29.29//
CALSCALE:GREGORIAN
METHOD:PUBLISH
UID:9d01c9d6-071f-4a84-9e00-f79996208efe
X-WR-CALNAME:JCal Pro Calendar
X-WR-CALDESC:Your online events calendar
X-WR-TIMEZONE:UTC
BEGIN:VTIMEZONE
TZID:UTC
END:VTIMEZONE
BEGIN:VEVENT
UID:20250506T160000UTC-4056SFxuH5@https://www.denbighchristianacademy.com/
DTSTAMP:20260424T150937Z
CATEGORIES:School Menu
DESCRIPTION:<p><span style='text-decoration: underline\;'><strong>Breakfast
 </strong></span></p>\n<p><br />1 1/2 oz Pancakes<br />1/4-1/2 cup Fruit<br
  />1/4-1/2 cup Cereal (optional)<br />6 oz. 1% Milk (8 oz for ages 6-12)</
 p>\n<p><br /><span style='text-decoration: underline\;'><strong>AM Snack</
 strong></span></p>\n<p>2 oz WG Ritz Crackers<br />1/2 - 1 whole Orange<br 
 />4 oz Water (8 oz for ages 6-12)</p>\n<p><br /><span style='text-decorati
 on: underline\;'><strong>Lunch</strong></span></p>\n<p>1 - 2 oz BBQ Chicke
 n<br />WW Roll w/Cole Slaw<br />1/4-1/2 cup Broccoli Cuts<br />1/4 cup Fru
 it<br />6 oz.1% Milk (ages 6-12 8 oz)</p>\n<p><br /><span style='text-deco
 ration: underline\;'><strong>PM Snack</strong></span></p>\n<p>1.3 oz Nutri
  Grain Bar<br />4 oz 1% Milk (8 oz for ages 6-12)</p>
DTSTART:20250506T000000Z
DTEND:20250506T235959Z
SUMMARY:Tuesday
URL:https://www.denbighchristianacademy.com/index.php/school-calendar/lunch
 -menu/10-school-menu/1747-tuesday
X-ALT-DESC;FMTTYPE=TEXT/HTML:<p><span style='text-decoration: underline\;'>
 <strong>Breakfast</strong></span></p>\n<p><br />1 1/2 oz Pancakes<br />1/4
 -1/2 cup Fruit<br />1/4-1/2 cup Cereal (optional)<br />6 oz. 1% Milk (8 oz
  for ages 6-12)</p>\n<p><br /><span style='text-decoration: underline\;'><
 strong>AM Snack</strong></span></p>\n<p>2 oz WG Ritz Crackers<br />1/2 - 1
  whole Orange<br />4 oz Water (8 oz for ages 6-12)</p>\n<p><br /><span sty
 le='text-decoration: underline\;'><strong>Lunch</strong></span></p>\n<p>1 
 - 2 oz BBQ Chicken<br />WW Roll w/Cole Slaw<br />1/4-1/2 cup Broccoli Cuts
 <br />1/4 cup Fruit<br />6 oz.1% Milk (ages 6-12 8 oz)</p>\n<p><br /><span
  style='text-decoration: underline\;'><strong>PM Snack</strong></span></p>
 \n<p>1.3 oz Nutri Grain Bar<br />4 oz 1% Milk (8 oz for ages 6-12)</p>
END:VEVENT
END:VCALENDAR
