BEGIN:VCALENDAR
VERSION:2.0
PRODID:-//https://www.denbighchristianacademy.com//NONSGML kigkonsult.se iC
 alcreator 2.29.29//
CALSCALE:GREGORIAN
METHOD:PUBLISH
UID:81977b15-3ae0-47e0-b37b-ebd00980ad4c
X-WR-CALNAME:JCal Pro Calendar
X-WR-CALDESC:Your online events calendar
X-WR-TIMEZONE:UTC
BEGIN:VTIMEZONE
TZID:UTC
END:VTIMEZONE
BEGIN:VEVENT
UID:20250425T180000UTC-8702RABwmM@https://www.denbighchristianacademy.com/
DTSTAMP:20260424T192847Z
CATEGORIES:School Menu
DESCRIPTION:<p><span style='text-decoration: underline\;'><strong>Breakfast
 </strong></span></p>\n<p><br />1 1/2 oz Biscuit w/Turkey Sausage<br />1/4-
 1/2 cup Fruit<br />1/4-1/2 cup Cereal (optional)<br />6 oz. 1% Milk (8 oz 
 for ages 6-12)</p>\n<p><br /><span style='text-decoration: underline\;'><s
 trong>AM Snack</strong></span></p>\n<p>2 oz Seedless Grapes<br />2 oz Grah
 am Crackers<br />4 oz Water (8 oz for ages 6-12)</p>\n<p><br /><span style
 ='text-decoration: underline\;'><strong>Lunch</strong></span></p>\n<p>Turk
 ey Sandwich on WW Bread<br />w/ or without Cheese<br />1 oz bag Potato Chi
 ps<br />1/4 cup Fruit<br />6 oz.1% Milk (ages 6-12 8 oz)</p>\n<p><br /><sp
 an style='text-decoration: underline\;'><strong>PM Snack</strong></span></
 p>\n<p>1 oz Fig Newton Bar<br />4 oz 1% Milk (8 oz for ages 6-12)</p>
DTSTART:20250425T000000Z
DTEND:20250425T235959Z
SUMMARY:Friday
URL:https://www.denbighchristianacademy.com/index.php/school-calendar/lunch
 -menu/10-school-menu/1740-friday
X-ALT-DESC;FMTTYPE=TEXT/HTML:<p><span style='text-decoration: underline\;'>
 <strong>Breakfast</strong></span></p>\n<p><br />1 1/2 oz Biscuit w/Turkey 
 Sausage<br />1/4-1/2 cup Fruit<br />1/4-1/2 cup Cereal (optional)<br />6 o
 z. 1% Milk (8 oz for ages 6-12)</p>\n<p><br /><span style='text-decoration
 : underline\;'><strong>AM Snack</strong></span></p>\n<p>2 oz Seedless Grap
 es<br />2 oz Graham Crackers<br />4 oz Water (8 oz for ages 6-12)</p>\n<p>
 <br /><span style='text-decoration: underline\;'><strong>Lunch</strong></s
 pan></p>\n<p>Turkey Sandwich on WW Bread<br />w/ or without Cheese<br />1 
 oz bag Potato Chips<br />1/4 cup Fruit<br />6 oz.1% Milk (ages 6-12 8 oz)<
 /p>\n<p><br /><span style='text-decoration: underline\;'><strong>PM Snack<
 /strong></span></p>\n<p>1 oz Fig Newton Bar<br />4 oz 1% Milk (8 oz for ag
 es 6-12)</p>
END:VEVENT
END:VCALENDAR
