BEGIN:VCALENDAR
VERSION:2.0
PRODID:-//https://www.denbighchristianacademy.com//NONSGML kigkonsult.se iC
 alcreator 2.29.29//
CALSCALE:GREGORIAN
METHOD:PUBLISH
UID:f67e1a00-9838-46e0-a5fb-944dceb8e63f
X-WR-CALNAME:JCal Pro Calendar
X-WR-CALDESC:Your online events calendar
X-WR-TIMEZONE:UTC
BEGIN:VTIMEZONE
TZID:UTC
END:VTIMEZONE
BEGIN:VEVENT
UID:20250131T160000UTC-2390vgslew@https://www.denbighchristianacademy.com/
DTSTAMP:20260424T163117Z
CATEGORIES:School Menu
DESCRIPTION:<p><span style='text-decoration: underline\;'><strong>Breakfast
 </strong></span></p>\n<p>1/4-1/2 cup Cream of Wheat<br />1/4-1/2 cup Mixed
  Fruit<br />1/4-1/2 cup Cereal (optional)<br />6 oz. 1% Milk (8 oz for age
 s 6-12)</p>\n<p><br /><span style='text-decoration: underline\;'><strong>A
 M Snack</strong></span></p>\n<p>3.9 oz Applesauce<br />2 oz Graham Cracker
 s<br />4 oz Water (8 oz for ages 6-12)</p>\n<p><br /><span style='text-dec
 oration: underline\;'><strong>Lunch</strong></span></p>\n<p>1 - 2 oz Chick
 en Leg<br />WW Roll<br />1/4-1/2 cup Peas &amp\; Carrots<br />6 oz.1% Milk
  (ages 6-12 8 oz)</p>\n<p><br /><span style='text-decoration: underline\;'
 ><strong>PM Snack</strong></span></p>\n<p>1.3 oz Nutri Grain Bar<br />4 oz
  1% Milk (8 oz for ages 6-12)</p>
DTSTART:20250131T000000Z
DTEND:20250131T235959Z
SUMMARY:Friday
URL:https://www.denbighchristianacademy.com/index.php/school-calendar/lunch
 -menu/10-school-menu/1680-friday
X-ALT-DESC;FMTTYPE=TEXT/HTML:<p><span style='text-decoration: underline\;'>
 <strong>Breakfast</strong></span></p>\n<p>1/4-1/2 cup Cream of Wheat<br />
 1/4-1/2 cup Mixed Fruit<br />1/4-1/2 cup Cereal (optional)<br />6 oz. 1% M
 ilk (8 oz for ages 6-12)</p>\n<p><br /><span style='text-decoration: under
 line\;'><strong>AM Snack</strong></span></p>\n<p>3.9 oz Applesauce<br />2 
 oz Graham Crackers<br />4 oz Water (8 oz for ages 6-12)</p>\n<p><br /><spa
 n style='text-decoration: underline\;'><strong>Lunch</strong></span></p>\n
 <p>1 - 2 oz Chicken Leg<br />WW Roll<br />1/4-1/2 cup Peas &amp\; Carrots<
 br />6 oz.1% Milk (ages 6-12 8 oz)</p>\n<p><br /><span style='text-decorat
 ion: underline\;'><strong>PM Snack</strong></span></p>\n<p>1.3 oz Nutri Gr
 ain Bar<br />4 oz 1% Milk (8 oz for ages 6-12)</p>
END:VEVENT
END:VCALENDAR
