BEGIN:VCALENDAR
VERSION:2.0
PRODID:-//https://www.denbighchristianacademy.com//NONSGML kigkonsult.se iC
 alcreator 2.29.29//
CALSCALE:GREGORIAN
METHOD:PUBLISH
UID:625ab47f-d4fa-4e93-9253-a340218c5a6d
X-WR-CALNAME:JCal Pro Calendar
X-WR-CALDESC:Your online events calendar
X-WR-TIMEZONE:UTC
BEGIN:VTIMEZONE
TZID:UTC
END:VTIMEZONE
BEGIN:VEVENT
UID:20250130T160000UTC-74471ET1EN@https://www.denbighchristianacademy.com/
DTSTAMP:20260424T163117Z
CATEGORIES:School Menu
DESCRIPTION:<p><span style='text-decoration: underline\;'><strong>Breakfast
 </strong></span></p>\n<p>1 - 2 oz Waffles<br />1/4-1/2 cup Peaches<br />1/
 4-1/2 cup Cereal (optional)<br />6 oz. 1% Milk (8 oz for ages 6-12)</p>\n<
 p><br /><span style='text-decoration: underline\;'><strong>AM Snack</stron
 g></span></p>\n<p>2 oz Seedless Grapes<br />2 oz Saltine Carckers<br />4 o
 z Water (8 oz for ages 6-12)</p>\n<p><br /><span style='text-decoration: u
 nderline\;'><strong>Lunch</strong></span></p>\n<p>2 oz Beef Hot Dog on&nbs
 p\;<br />WW Bun<br />1/4-1/2 cup Baked Beans<br />1/4 cup Fruit Cocktail<b
 r />6 oz.1% Milk (ages 6-12 8 oz)</p>\n<p><br /><span style='text-decorati
 on: underline\;'><strong>PM Snack</strong></span></p>\n<p>1 oz pk Ritz Bit
 s Crackers w/ Cheese<br />4 oz 1% Milk (8 oz for ages 6-12)</p>
DTSTART:20250130T000000Z
DTEND:20250130T235959Z
SUMMARY:Thursday
URL:https://www.denbighchristianacademy.com/index.php/school-calendar/lunch
 -menu/10-school-menu/1679-thursday
X-ALT-DESC;FMTTYPE=TEXT/HTML:<p><span style='text-decoration: underline\;'>
 <strong>Breakfast</strong></span></p>\n<p>1 - 2 oz Waffles<br />1/4-1/2 cu
 p Peaches<br />1/4-1/2 cup Cereal (optional)<br />6 oz. 1% Milk (8 oz for 
 ages 6-12)</p>\n<p><br /><span style='text-decoration: underline\;'><stron
 g>AM Snack</strong></span></p>\n<p>2 oz Seedless Grapes<br />2 oz Saltine 
 Carckers<br />4 oz Water (8 oz for ages 6-12)</p>\n<p><br /><span style='t
 ext-decoration: underline\;'><strong>Lunch</strong></span></p>\n<p>2 oz Be
 ef Hot Dog on&nbsp\;<br />WW Bun<br />1/4-1/2 cup Baked Beans<br />1/4 cup
  Fruit Cocktail<br />6 oz.1% Milk (ages 6-12 8 oz)</p>\n<p><br /><span sty
 le='text-decoration: underline\;'><strong>PM Snack</strong></span></p>\n<p
 >1 oz pk Ritz Bits Crackers w/ Cheese<br />4 oz 1% Milk (8 oz for ages 6-1
 2)</p>
END:VEVENT
END:VCALENDAR
