BEGIN:VCALENDAR
VERSION:2.0
PRODID:-//https://www.denbighchristianacademy.com//NONSGML kigkonsult.se iC
 alcreator 2.29.29//
CALSCALE:GREGORIAN
METHOD:PUBLISH
UID:20e4c0dc-e33b-48fe-b7ce-3ba483210a97
X-WR-CALNAME:JCal Pro Calendar
X-WR-CALDESC:Your online events calendar
X-WR-TIMEZONE:UTC
BEGIN:VTIMEZONE
TZID:UTC
END:VTIMEZONE
BEGIN:VEVENT
UID:20241002T180000UTC-6270we7naA@https://www.denbighchristianacademy.com/
DTSTAMP:20260424T181547Z
CATEGORIES:School Menu
DESCRIPTION:<p><span style='text-decoration: underline\;'><strong>Breakfast
 </strong></span></p>\n<p>3.5 oz Biscuit<br />1 - 2 oz Turkey Bacon<br />1/
 4-1/2 cup Fruit Coctail<br />1/4-1/2 cup Cereal (optional)<br />6 oz. 1% M
 ilk (8 oz for ages 6-12)</p>\n<p><br /><span style='text-decoration: under
 line\;'><strong>AM Snack</strong></span></p>\n<p>2 oz Orange Slices<br />2
  oz Saltine Crackers<br />4 oz Water (8 oz for ages 6-12)</p>\n<p><br /><s
 pan style='text-decoration: underline\;'><strong>Lunch</strong></span></p>
 \n<p>1 1/2 oz Nachos w/Tortilla chips<br />Meat\, and Cheese<br />1/4-1/2 
 cup Seasoned Corn<br />1/4 cup Pineapple<br />6 oz.1% Milk (ages 6-12 8 oz
 )</p>\n<p><br /><span style='text-decoration: underline\;'><strong>PM Snac
 k</strong></span></p>\n<p>1 oz pk of Ritz Bits w/Cheese<br />4 oz 1% Milk 
 (8 oz for ages 6-12)</p>
DTSTART:20241002T000000Z
DTEND:20241002T235959Z
SUMMARY:Wednesday
URL:https://www.denbighchristianacademy.com/index.php/school-calendar/lunch
 -menu/10-school-menu/1608-wednesday
X-ALT-DESC;FMTTYPE=TEXT/HTML:<p><span style='text-decoration: underline\;'>
 <strong>Breakfast</strong></span></p>\n<p>3.5 oz Biscuit<br />1 - 2 oz Tur
 key Bacon<br />1/4-1/2 cup Fruit Coctail<br />1/4-1/2 cup Cereal (optional
 )<br />6 oz. 1% Milk (8 oz for ages 6-12)</p>\n<p><br /><span style='text-
 decoration: underline\;'><strong>AM Snack</strong></span></p>\n<p>2 oz Ora
 nge Slices<br />2 oz Saltine Crackers<br />4 oz Water (8 oz for ages 6-12)
 </p>\n<p><br /><span style='text-decoration: underline\;'><strong>Lunch</s
 trong></span></p>\n<p>1 1/2 oz Nachos w/Tortilla chips<br />Meat\, and Che
 ese<br />1/4-1/2 cup Seasoned Corn<br />1/4 cup Pineapple<br />6 oz.1% Mil
 k (ages 6-12 8 oz)</p>\n<p><br /><span style='text-decoration: underline\;
 '><strong>PM Snack</strong></span></p>\n<p>1 oz pk of Ritz Bits w/Cheese<b
 r />4 oz 1% Milk (8 oz for ages 6-12)</p>
END:VEVENT
END:VCALENDAR
