BEGIN:VCALENDAR
VERSION:2.0
PRODID:-//https://www.denbighchristianacademy.com//NONSGML kigkonsult.se iC
 alcreator 2.29.29//
CALSCALE:GREGORIAN
METHOD:PUBLISH
UID:66ac33f2-a517-40d9-a45e-75c4a85bf0f8
X-WR-CALNAME:JCal Pro Calendar
X-WR-CALDESC:Your online events calendar
X-WR-TIMEZONE:UTC
BEGIN:VTIMEZONE
TZID:UTC
END:VTIMEZONE
BEGIN:VEVENT
UID:20240823T180000UTC-4868shEDBu@https://www.denbighchristianacademy.com/
DTSTAMP:20260424T163117Z
CATEGORIES:School Menu
DESCRIPTION:<p><span style='text-decoration: underline\;'><strong>Breakfast
 </strong></span></p>\n<p>2 - 4 French Toast Sticks<br />1/4-1/2 cup Fruit 
 Cocktail<br />1/4-1/2 cup Cereal (optional)<br />6 oz. 1% Milk (8 oz for a
 ges 6-12)</p>\n<p><br /><span style='text-decoration: underline\;'><strong
 >AM Snack</strong></span></p>\n<p>1.62 oz Asst. Fruit Snacks (2 pks)<br />
 4 oz 1% Milk (8 oz for ages 6-12)</p>\n<p><br /><span style='text-decorati
 on: underline\;'><strong>Lunch</strong></span></p>\n<p>1 1/2 - 2 oz Turkey
  Sandwich<br />w/Cheese on WW Bun<br />1 oz Bag of Chips<br />1/4 cup Frui
 t<br />6 oz.1% Milk (ages 6-12 8 oz)</p>\n<p><br /><span style='text-decor
 ation: underline\;'><strong>PM Snack</strong></span></p>\n<p>1/4-1/2 cup P
 retzels<br />4 oz 100% Grape Juice (8 oz for ages 6-12)</p>
DTSTART:20240823T000000Z
DTEND:20240823T235959Z
SUMMARY:Friday
URL:https://www.denbighchristianacademy.com/index.php/school-calendar/lunch
 -menu/10-school-menu/1532-friday
X-ALT-DESC;FMTTYPE=TEXT/HTML:<p><span style='text-decoration: underline\;'>
 <strong>Breakfast</strong></span></p>\n<p>2 - 4 French Toast Sticks<br />1
 /4-1/2 cup Fruit Cocktail<br />1/4-1/2 cup Cereal (optional)<br />6 oz. 1%
  Milk (8 oz for ages 6-12)</p>\n<p><br /><span style='text-decoration: und
 erline\;'><strong>AM Snack</strong></span></p>\n<p>1.62 oz Asst. Fruit Sna
 cks (2 pks)<br />4 oz 1% Milk (8 oz for ages 6-12)</p>\n<p><br /><span sty
 le='text-decoration: underline\;'><strong>Lunch</strong></span></p>\n<p>1 
 1/2 - 2 oz Turkey Sandwich<br />w/Cheese on WW Bun<br />1 oz Bag of Chips<
 br />1/4 cup Fruit<br />6 oz.1% Milk (ages 6-12 8 oz)</p>\n<p><br /><span 
 style='text-decoration: underline\;'><strong>PM Snack</strong></span></p>
 \n<p>1/4-1/2 cup Pretzels<br />4 oz 100% Grape Juice (8 oz for ages 6-12)<
 /p>
END:VEVENT
END:VCALENDAR
