BEGIN:VCALENDAR
VERSION:2.0
PRODID:-//https://www.denbighchristianacademy.com//NONSGML kigkonsult.se iC
 alcreator 2.29.29//
CALSCALE:GREGORIAN
METHOD:PUBLISH
UID:901bb9cc-b7f3-4219-b9be-234f958fa836
X-WR-CALNAME:JCal Pro Calendar
X-WR-CALDESC:Your online events calendar
X-WR-TIMEZONE:UTC
BEGIN:VTIMEZONE
TZID:UTC
END:VTIMEZONE
BEGIN:VEVENT
UID:20240802T180000UTC-539381NJRf@https://www.denbighchristianacademy.com/
DTSTAMP:20260424T192845Z
CATEGORIES:School Menu
DESCRIPTION:<p><span style='text-decoration: underline\;'><strong>Breakfast
 </strong></span></p>\n<p>1/4-1/2 cup Oatmeal<br />1/4-1/2 cup Mixed Fruit<
 br />1/4-1/2 cup Cereal (optional)<br />6 oz. 1% Milk (8 oz for ages 6-12)
 </p>\n<p><br /><span style='text-decoration: underline\;'><strong>AM Snack
 </strong></span></p>\n<p>1 Package Ritz Bits Crackers<br />4 oz 1% Milk (8
  oz for ages 6-12)</p>\n<p><br /><span style='text-decoration: underline\;
 '><strong>Lunch</strong></span></p>\n<p>1 1/2 - 2 oz Turkey Sandwiches<br 
 />1 oz bag Chips<br />1/4 cup Fruit<br />6 oz.1% Milk (ages 6-12 8 oz)</p>
 \n<p><br /><span style='text-decoration: underline\;'><strong>PM Snack</st
 rong></span></p>\n<p>1 oz Teddy Grahams or Bug Bites Crackers<br />4 oz 10
 0% Grape Juice&nbsp\; (8 oz for ages 6-12)</p>
DTSTART:20240802T000000Z
DTEND:20240802T235959Z
SUMMARY:Friday
URL:https://www.denbighchristianacademy.com/index.php/school-calendar/lunch
 -menu/10-school-menu/1517-friday
X-ALT-DESC;FMTTYPE=TEXT/HTML:<p><span style='text-decoration: underline\;'>
 <strong>Breakfast</strong></span></p>\n<p>1/4-1/2 cup Oatmeal<br />1/4-1/2
  cup Mixed Fruit<br />1/4-1/2 cup Cereal (optional)<br />6 oz. 1% Milk (8 
 oz for ages 6-12)</p>\n<p><br /><span style='text-decoration: underline\;'
 ><strong>AM Snack</strong></span></p>\n<p>1 Package Ritz Bits Crackers<br 
 />4 oz 1% Milk (8 oz for ages 6-12)</p>\n<p><br /><span style='text-decora
 tion: underline\;'><strong>Lunch</strong></span></p>\n<p>1 1/2 - 2 oz Turk
 ey Sandwiches<br />1 oz bag Chips<br />1/4 cup Fruit<br />6 oz.1% Milk (ag
 es 6-12 8 oz)</p>\n<p><br /><span style='text-decoration: underline\;'><st
 rong>PM Snack</strong></span></p>\n<p>1 oz Teddy Grahams or Bug Bites Crac
 kers<br />4 oz 100% Grape Juice&nbsp\; (8 oz for ages 6-12)</p>
END:VEVENT
END:VCALENDAR
