BEGIN:VCALENDAR
VERSION:2.0
PRODID:-//https://www.denbighchristianacademy.com//NONSGML kigkonsult.se iC
 alcreator 2.29.29//
CALSCALE:GREGORIAN
METHOD:PUBLISH
UID:3e381739-21ba-471c-a3a0-fde35ff1d6bf
X-WR-CALNAME:JCal Pro Calendar
X-WR-CALDESC:Your online events calendar
X-WR-TIMEZONE:UTC
BEGIN:VTIMEZONE
TZID:UTC
END:VTIMEZONE
BEGIN:VEVENT
UID:20200107T170000UTC-2855b2VBjA@http://www.denbighchristianacademy.com/
DTSTAMP:20260424T085422Z
CATEGORIES:School Menu
DESCRIPTION:<p><span style='text-decoration: underline\;'><strong>Breakfast
 <br /><br /></strong></span>1/4-1/2 cup Oatmeal<br />1/4-1/2 cup Applesauc
 e<br />Cereal (optional)<br />6 oz. 1% Milk (8 oz for ages 6-12)</p>\n<p><
 br /><span style='text-decoration: underline\;'><strong>AM Snack</strong><
 /span></p>\n<p>1/4 cup Cheez-Its<br />4 oz 1% Milk (8 oz for ages 6-12)</p
 >\n<p><br /><span style='text-decoration: underline\;'><strong>Lunch</stro
 ng></span></p>\n<p>1 1/2 oz Chicken &amp\; Dumplings<br />1/4 cup Broccoli
 <br />1/4 cup Peaches<br />6 oz.1% Milk (ages 6-12 8 oz)</p>\n<p><br /><sp
 an style='text-decoration: underline\;'><strong>PM Snack</strong></span></
 p>\n<p>1 Oatmeal Cookie<br />4 oz 1% Milk (8 oz for ages 6-12)</p>
DTSTART:20200107T000000Z
DTEND:20200107T235959Z
SUMMARY:Tuesday
URL:https://www.denbighchristianacademy.com/index.php/school-calendar/lunch
 -menu/10-school-menu/148-tuesday
X-ALT-DESC;FMTTYPE=TEXT/HTML:<p><span style='text-decoration: underline\;'>
 <strong>Breakfast<br /><br /></strong></span>1/4-1/2 cup Oatmeal<br />1/4-
 1/2 cup Applesauce<br />Cereal (optional)<br />6 oz. 1% Milk (8 oz for age
 s 6-12)</p>\n<p><br /><span style='text-decoration: underline\;'><strong>A
 M Snack</strong></span></p>\n<p>1/4 cup Cheez-Its<br />4 oz 1% Milk (8 oz 
 for ages 6-12)</p>\n<p><br /><span style='text-decoration: underline\;'><s
 trong>Lunch</strong></span></p>\n<p>1 1/2 oz Chicken &amp\; Dumplings<br /
 >1/4 cup Broccoli<br />1/4 cup Peaches<br />6 oz.1% Milk (ages 6-12 8 oz)<
 /p>\n<p><br /><span style='text-decoration: underline\;'><strong>PM Snack<
 /strong></span></p>\n<p>1 Oatmeal Cookie<br />4 oz 1% Milk (8 oz for ages 
 6-12)</p>
END:VEVENT
END:VCALENDAR
