BEGIN:VCALENDAR
VERSION:2.0
PRODID:-//https://www.denbighchristianacademy.com//NONSGML kigkonsult.se iC
 alcreator 2.29.29//
CALSCALE:GREGORIAN
METHOD:PUBLISH
UID:3e3bed88-b6a7-48a2-9531-b235ec422b7c
X-WR-CALNAME:JCal Pro Calendar
X-WR-CALDESC:Your online events calendar
X-WR-TIMEZONE:UTC
BEGIN:VTIMEZONE
TZID:UTC
END:VTIMEZONE
BEGIN:VEVENT
UID:20240610T150000UTC-6879XG7Jto@https://www.denbighchristianacademy.com/
DTSTAMP:20260424T233545Z
CATEGORIES:School Menu
DESCRIPTION:<p><span style='text-decoration: underline\;'><strong>Breakfast
 </strong></span></p>\n<p>1 ½ oz French Toast Sticks<br />1/4-1/2 cup Diced
  Pears<br />1/4-1/2 cup Cereal (optional)<br />6 oz. 1% Milk (8 oz for age
 s 6-12)</p>\n<p><br /><span style='text-decoration: underline\;'><strong>A
 M Snack</strong></span></p>\n<p>1/4-1/2 cup Graham Crackers<br />4 oz 1% M
 ilk (8 oz for ages 6-12)</p>\n<p><br /><span style='text-decoration: under
 line\;'><strong>Lunch</strong></span></p>\n<p>1 1/2 - 2 oz Mac &amp\; Chee
 se<br />1/4-1/2 cup Broccoli<br />1/4 cup Mixed Fruit<br />WW Bread<br />6
  oz.1% Milk (ages 6-12 8 oz)</p>\n<p><br /><span style='text-decoration: u
 nderline\;'><strong>PM Snack</strong></span></p>\n<p>1/4-1/2 cup Oatmeal C
 ookies<br />4 oz 1% Milk (8 oz for ages 6-12)</p>
DTSTART:20240610T000000Z
DTEND:20240610T235959Z
SUMMARY:Monday
URL:https://www.denbighchristianacademy.com/index.php/school-calendar/lunch
 -menu/10-school-menu/1479-monday
X-ALT-DESC;FMTTYPE=TEXT/HTML:<p><span style='text-decoration: underline\;'>
 <strong>Breakfast</strong></span></p>\n<p>1 ½ oz French Toast Sticks<br />
 1/4-1/2 cup Diced Pears<br />1/4-1/2 cup Cereal (optional)<br />6 oz. 1% M
 ilk (8 oz for ages 6-12)</p>\n<p><br /><span style='text-decoration: under
 line\;'><strong>AM Snack</strong></span></p>\n<p>1/4-1/2 cup Graham Cracke
 rs<br />4 oz 1% Milk (8 oz for ages 6-12)</p>\n<p><br /><span style='text-
 decoration: underline\;'><strong>Lunch</strong></span></p>\n<p>1 1/2 - 2 o
 z Mac &amp\; Cheese<br />1/4-1/2 cup Broccoli<br />1/4 cup Mixed Fruit<br 
 />WW Bread<br />6 oz.1% Milk (ages 6-12 8 oz)</p>\n<p><br /><span style='t
 ext-decoration: underline\;'><strong>PM Snack</strong></span></p>\n<p>1/4-
 1/2 cup Oatmeal Cookies<br />4 oz 1% Milk (8 oz for ages 6-12)</p>
END:VEVENT
END:VCALENDAR
