BEGIN:VCALENDAR
VERSION:2.0
PRODID:-//https://www.denbighchristianacademy.com//NONSGML kigkonsult.se iC
 alcreator 2.29.29//
CALSCALE:GREGORIAN
METHOD:PUBLISH
UID:adc3f48e-545c-49df-a291-1af88c3fff66
X-WR-CALNAME:JCal Pro Calendar
X-WR-CALDESC:Your online events calendar
X-WR-TIMEZONE:UTC
BEGIN:VTIMEZONE
TZID:UTC
END:VTIMEZONE
BEGIN:VEVENT
UID:20191230T190000UTC-1664HsaJkl@http://www.denbighchristianacademy.com/
DTSTAMP:20260424T133215Z
CATEGORIES:School Menu
DESCRIPTION:<p><span style='font-size: 14pt\;'><strong>Closed</strong></spa
 n></p>
DTSTART:20191230T000000Z
DTEND:20191230T235959Z
SUMMARY:Monday
URL:https://www.denbighchristianacademy.com/index.php/school-calendar/lunch
 -menu/10-school-menu/143-monday
X-ALT-DESC;FMTTYPE=TEXT/HTML:<p><span style='font-size: 14pt\;'><strong>Clo
 sed</strong></span></p>
END:VEVENT
END:VCALENDAR
