BEGIN:VCALENDAR
VERSION:2.0
PRODID:-//https://www.denbighchristianacademy.com//NONSGML kigkonsult.se iC
 alcreator 2.29.29//
CALSCALE:GREGORIAN
METHOD:PUBLISH
UID:f81d47af-d085-447b-9021-dbe9d2ebc345
X-WR-CALNAME:JCal Pro Calendar
X-WR-CALDESC:Your online events calendar
X-WR-TIMEZONE:UTC
BEGIN:VTIMEZONE
TZID:UTC
END:VTIMEZONE
BEGIN:VEVENT
UID:20191227T190000UTC-68724OMicC@http://www.denbighchristianacademy.com/
DTSTAMP:20260424T151708Z
CATEGORIES:School Menu
DESCRIPTION:<p><span style='font-size: 14pt\;'><strong>Closed</strong></spa
 n></p>
DTSTART:20191227T000000Z
DTEND:20191227T235959Z
SUMMARY:Friday
URL:https://www.denbighchristianacademy.com/index.php/school-calendar/lunch
 -menu/10-school-menu/142-friday
X-ALT-DESC;FMTTYPE=TEXT/HTML:<p><span style='font-size: 14pt\;'><strong>Clo
 sed</strong></span></p>
END:VEVENT
END:VCALENDAR
