BEGIN:VCALENDAR
VERSION:2.0
PRODID:-//https://www.denbighchristianacademy.com//NONSGML kigkonsult.se iC
 alcreator 2.29.29//
CALSCALE:GREGORIAN
METHOD:PUBLISH
UID:e55fa04c-309c-475f-8db6-db3a1ed1224a
X-WR-CALNAME:JCal Pro Calendar
X-WR-CALDESC:Your online events calendar
X-WR-TIMEZONE:UTC
BEGIN:VTIMEZONE
TZID:UTC
END:VTIMEZONE
BEGIN:VEVENT
UID:20191226T190000UTC-7057Wsm18u@http://www.denbighchristianacademy.com/
DTSTAMP:20260424T151542Z
CATEGORIES:School Menu
DESCRIPTION:<p><span style='font-size: 14pt\;'><strong>Closed</strong></spa
 n></p>
DTSTART:20191226T000000Z
DTEND:20191226T235959Z
SUMMARY:Thursday
URL:https://www.denbighchristianacademy.com/index.php/school-calendar/lunch
 -menu/10-school-menu/141-thursday
X-ALT-DESC;FMTTYPE=TEXT/HTML:<p><span style='font-size: 14pt\;'><strong>Clo
 sed</strong></span></p>
END:VEVENT
END:VCALENDAR
