BEGIN:VCALENDAR
VERSION:2.0
PRODID:-//https://www.denbighchristianacademy.com//NONSGML kigkonsult.se iC
 alcreator 2.29.29//
CALSCALE:GREGORIAN
METHOD:PUBLISH
UID:9843879a-424a-4df7-a4bb-866aea2b793e
X-WR-CALNAME:JCal Pro Calendar
X-WR-CALDESC:Your online events calendar
X-WR-TIMEZONE:UTC
BEGIN:VTIMEZONE
TZID:UTC
END:VTIMEZONE
BEGIN:VEVENT
UID:20191224T190000UTC-8813HWPBkM@http://www.denbighchristianacademy.com/
DTSTAMP:20260424T181346Z
CATEGORIES:School Menu
DESCRIPTION:<p><span style='font-size: 14pt\;'><strong>Closed</strong></spa
 n></p>
DTSTART:20191224T000000Z
DTEND:20191224T235959Z
SUMMARY:Tuesday
URL:https://www.denbighchristianacademy.com/index.php/school-calendar/lunch
 -menu/10-school-menu/139-tuesday
X-ALT-DESC;FMTTYPE=TEXT/HTML:<p><span style='font-size: 14pt\;'><strong>Clo
 sed</strong></span></p>
END:VEVENT
END:VCALENDAR
