BEGIN:VCALENDAR
VERSION:2.0
PRODID:-//https://www.denbighchristianacademy.com//NONSGML kigkonsult.se iC
 alcreator 2.29.29//
CALSCALE:GREGORIAN
METHOD:PUBLISH
UID:79bb84f3-db93-4072-8817-ef9822e3cc91
X-WR-CALNAME:JCal Pro Calendar
X-WR-CALDESC:Your online events calendar
X-WR-TIMEZONE:UTC
BEGIN:VTIMEZONE
TZID:UTC
END:VTIMEZONE
BEGIN:VEVENT
UID:20231129T150000UTC-7351IIHHIw@https://www.denbighchristianacademy.com/
DTSTAMP:20260425T105644Z
CATEGORIES:School Menu
DESCRIPTION:<p><span style='text-decoration: underline\;'><strong>Breakfast
 </strong></span></p>\n<p>1 1/2 oz Turkey Sausage or<br />1 1/2 oz Cheese O
 melets<br />1/4-1/2 cup Fruit Cocktail<br />1/4-1/2 cup Cereal (optional)<
 br />6 oz. 1% Milk (8 oz for ages 6-12)</p>\n<p><br /><span style='text-de
 coration: underline\;'><strong>AM Snack</strong></span></p>\n<p>1/4-1/2 cu
 p WG Cheez-it Crackers<br />4 oz 1% Milk (8 oz for ages 6-12)</p>\n<p><br 
 /><span style='text-decoration: underline\;'><strong>Lunch</strong></span>
 </p>\n<p>1 1/2 - 2 oz Chicken Tenders<br />1/4-1/2 cup Broccoli<br />1/4 c
 up Mixed Fruit<br />6 oz.1% Milk (ages 6-12 8 oz)</p>\n<p><br /><span styl
 e='text-decoration: underline\;'><strong>PM Snack</strong></span></p>\n<p>
 1/4-1/2 cup Pretzels<br />4 oz 100% Apple Juice (8 oz for ages 6-12)</p>
DTSTART:20231129T000000Z
DTEND:20231129T235959Z
SUMMARY:Wednesday
URL:https://www.denbighchristianacademy.com/index.php/school-calendar/lunch
 -menu/10-school-menu/1340-wednesday
X-ALT-DESC;FMTTYPE=TEXT/HTML:<p><span style='text-decoration: underline\;'>
 <strong>Breakfast</strong></span></p>\n<p>1 1/2 oz Turkey Sausage or<br />
 1 1/2 oz Cheese Omelets<br />1/4-1/2 cup Fruit Cocktail<br />1/4-1/2 cup C
 ereal (optional)<br />6 oz. 1% Milk (8 oz for ages 6-12)</p>\n<p><br /><sp
 an style='text-decoration: underline\;'><strong>AM Snack</strong></span></
 p>\n<p>1/4-1/2 cup WG Cheez-it Crackers<br />4 oz 1% Milk (8 oz for ages 6
 -12)</p>\n<p><br /><span style='text-decoration: underline\;'><strong>Lunc
 h</strong></span></p>\n<p>1 1/2 - 2 oz Chicken Tenders<br />1/4-1/2 cup Br
 occoli<br />1/4 cup Mixed Fruit<br />6 oz.1% Milk (ages 6-12 8 oz)</p>\n<p
 ><br /><span style='text-decoration: underline\;'><strong>PM Snack</strong
 ></span></p>\n<p>1/4-1/2 cup Pretzels<br />4 oz 100% Apple Juice (8 oz for
  ages 6-12)</p>
END:VEVENT
END:VCALENDAR
