BEGIN:VCALENDAR
VERSION:2.0
PRODID:-//https://www.denbighchristianacademy.com//NONSGML kigkonsult.se iC
 alcreator 2.29.29//
CALSCALE:GREGORIAN
METHOD:PUBLISH
UID:5276f255-fdde-4c3a-bd3d-c6b4cb238d0e
X-WR-CALNAME:JCal Pro Calendar
X-WR-CALDESC:Your online events calendar
X-WR-TIMEZONE:UTC
BEGIN:VTIMEZONE
TZID:UTC
END:VTIMEZONE
BEGIN:VEVENT
UID:20231031T150000UTC-2564dvVIhh@https://www.denbighchristianacademy.com/
DTSTAMP:20260425T122830Z
CATEGORIES:School Menu
DESCRIPTION:<p><span style='text-decoration: underline\;'><strong>Breakfast
 </strong></span></p>\n<p>1 1/2 oz Turkey Bacon<br />1 1/2 oz Biscuit<br />
 1/4-1/2 cup Pineapple<br />1/4-1/2 cup Cereal (optional)<br />6 oz. 1% Mil
 k (8 oz for ages 6-12)</p>\n<p><br /><span style='text-decoration: underli
 ne\;'><strong>AM Snack</strong></span></p>\n<p>1 - 2 oz Carrots w/Ranch Dr
 essing<br />4 oz Water (8 oz for ages 6-12)</p>\n<p><br /><span style='tex
 t-decoration: underline\;'><strong>Lunch</strong></span></p>\n<p>1 1/2 -2 
 oz Mac &amp\; Cheese<br />WW Bread<br />1/4-1/2 cup Green Beans<br />1/4-1
 /2 cup Mixed Fruit<br />6 oz.1% Milk (ages 6-12 8 oz)</p>\n<p><br /><span 
 style='text-decoration: underline\;'><strong>PM Snack</strong></span></p>
 \n<p>1 (.78 oz) Bar Rice Krispy Treat<br />4 oz 1% Milk (8 oz for ages 6-1
 2)</p>
DTSTART:20231031T000000Z
DTEND:20231031T235959Z
SUMMARY:Tuesday
URL:https://www.denbighchristianacademy.com/index.php/school-calendar/lunch
 -menu/10-school-menu/1321-tuesday
X-ALT-DESC;FMTTYPE=TEXT/HTML:<p><span style='text-decoration: underline\;'>
 <strong>Breakfast</strong></span></p>\n<p>1 1/2 oz Turkey Bacon<br />1 1/2
  oz Biscuit<br />1/4-1/2 cup Pineapple<br />1/4-1/2 cup Cereal (optional)<
 br />6 oz. 1% Milk (8 oz for ages 6-12)</p>\n<p><br /><span style='text-de
 coration: underline\;'><strong>AM Snack</strong></span></p>\n<p>1 - 2 oz C
 arrots w/Ranch Dressing<br />4 oz Water (8 oz for ages 6-12)</p>\n<p><br /
 ><span style='text-decoration: underline\;'><strong>Lunch</strong></span><
 /p>\n<p>1 1/2 -2 oz Mac &amp\; Cheese<br />WW Bread<br />1/4-1/2 cup Green
  Beans<br />1/4-1/2 cup Mixed Fruit<br />6 oz.1% Milk (ages 6-12 8 oz)</p>
 \n<p><br /><span style='text-decoration: underline\;'><strong>PM Snack</st
 rong></span></p>\n<p>1 (.78 oz) Bar Rice Krispy Treat<br />4 oz 1% Milk (8
  oz for ages 6-12)</p>
END:VEVENT
END:VCALENDAR
