BEGIN:VCALENDAR
VERSION:2.0
PRODID:-//https://www.denbighchristianacademy.com//NONSGML kigkonsult.se iC
 alcreator 2.29.29//
CALSCALE:GREGORIAN
METHOD:PUBLISH
UID:906cd8a3-cc41-4231-8e42-177a9855a4ca
X-WR-CALNAME:JCal Pro Calendar
X-WR-CALDESC:Your online events calendar
X-WR-TIMEZONE:UTC
BEGIN:VTIMEZONE
TZID:UTC
END:VTIMEZONE
BEGIN:VEVENT
UID:20230628T170000UTC-0735z2kuDh@https://www.denbighchristianacademy.com/
DTSTAMP:20260425T194626Z
CATEGORIES:School Menu
DESCRIPTION:<p><span style='text-decoration: underline\;'><strong>Breakfast
 </strong></span></p>\n<p>1 1/2 oz Turkey Bacon<br />3.5 oz&nbsp\; Cheese O
 melet<br />1/4-1/2 cup Fruit Cocktail<br />1/4-1/2 cup Cereal (optional)<b
 r />6 oz. 1% Milk (8 oz for ages 6-12)</p>\n<p><br /><span style='text-dec
 oration: underline\;'><strong>AM Snack</strong></span></p>\n<p>1/4-1/2 cup
  WG Cheez-it Crackers<br />4 oz 1% Milk (8 oz for ages 6-12)</p>\n<p><br /
 ><span style='text-decoration: underline\;'><strong>Lunch</strong></span><
 /p>\n<p>1 1/2 - 2 oz Spaghetti w/Meat Sauce<br />1/2 - 1 Garlic Bread Stic
 k<br />1/4-1/2 cup Tossed Salad w/Dressing<br />1/4 cup Mixed Fruit<br />6
  oz.1% Milk (ages 6-12 8 oz)</p>\n<p><br /><span style='text-decoration: u
 nderline\;'><strong>PM Snack</strong></span></p>\n<p>1.5 oz Oreo Mini Cook
 ies<br />4 oz 1% Milk (8 oz for ages 6-12)</p>
DTSTART:20230628T000000Z
DTEND:20230628T235959Z
SUMMARY:Wednesday
URL:https://www.denbighchristianacademy.com/index.php/school-calendar/lunch
 -menu/10-school-menu/1232-wednesday
X-ALT-DESC;FMTTYPE=TEXT/HTML:<p><span style='text-decoration: underline\;'>
 <strong>Breakfast</strong></span></p>\n<p>1 1/2 oz Turkey Bacon<br />3.5 o
 z&nbsp\; Cheese Omelet<br />1/4-1/2 cup Fruit Cocktail<br />1/4-1/2 cup Ce
 real (optional)<br />6 oz. 1% Milk (8 oz for ages 6-12)</p>\n<p><br /><spa
 n style='text-decoration: underline\;'><strong>AM Snack</strong></span></p
 >\n<p>1/4-1/2 cup WG Cheez-it Crackers<br />4 oz 1% Milk (8 oz for ages 6-
 12)</p>\n<p><br /><span style='text-decoration: underline\;'><strong>Lunch
 </strong></span></p>\n<p>1 1/2 - 2 oz Spaghetti w/Meat Sauce<br />1/2 - 1 
 Garlic Bread Stick<br />1/4-1/2 cup Tossed Salad w/Dressing<br />1/4 cup M
 ixed Fruit<br />6 oz.1% Milk (ages 6-12 8 oz)</p>\n<p><br /><span style='t
 ext-decoration: underline\;'><strong>PM Snack</strong></span></p>\n<p>1.5 
 oz Oreo Mini Cookies<br />4 oz 1% Milk (8 oz for ages 6-12)</p>
END:VEVENT
END:VCALENDAR
