BEGIN:VCALENDAR
VERSION:2.0
PRODID:-//https://www.denbighchristianacademy.com//NONSGML kigkonsult.se iC
 alcreator 2.29.29//
CALSCALE:GREGORIAN
METHOD:PUBLISH
UID:6007cb32-12f7-4278-a56f-0750a9ee5cb4
X-WR-CALNAME:JCal Pro Calendar
X-WR-CALDESC:Your online events calendar
X-WR-TIMEZONE:UTC
BEGIN:VTIMEZONE
TZID:UTC
END:VTIMEZONE
BEGIN:VEVENT
UID:20191120T130000UTC-8591C74sZL@http://www.denbighchristianacademy.com/
DTSTAMP:20260424T165010Z
CATEGORIES:School Menu
DESCRIPTION:<p><span style='text-decoration: underline\;'><strong>Breakfast
 </strong></span></p>\n<p>1/4 - 1/2 cup Oatmeal<br />1/4-1/2 cup Apple Slic
 es<br />Cereal (optional)<br />6 oz. 1% Milk (8 oz for ages 6-12)</p>\n<p>
 <br /><span style='text-decoration: underline\;'><strong>AM Snack</strong>
 </span></p>\n<p>1/4 cup Pretzel Mix<br />4 oz 1% Milk (8 oz for ages 6-12)
 </p>\n<p><br /><span style='text-decoration: underline\;'><strong>Lunch</s
 trong></span></p>\n<p>1/2 cup Mac &amp\; Cheese<br />1/4 cup String Beans<
 br />1/4 cup Pineapples<br />6 oz.1% Milk (ages 6-12 8 oz)</p>\n<p><br /><
 span style='text-decoration: underline\;'><strong>PM Snack</strong></span>
 </p>\n<p>1/2 oz Cinnamon &amp\; Brown Sugar<br />Oatmeal Squares<br />4 oz
  1% Milk (8 oz for ages 6-12)</p>
DTSTART:20191120T000000Z
DTEND:20191120T235959Z
SUMMARY:Wednesday
URL:https://www.denbighchristianacademy.com/index.php/school-calendar/lunch
 -menu/10-school-menu/117-wednesday
X-ALT-DESC;FMTTYPE=TEXT/HTML:<p><span style='text-decoration: underline\;'>
 <strong>Breakfast</strong></span></p>\n<p>1/4 - 1/2 cup Oatmeal<br />1/4-1
 /2 cup Apple Slices<br />Cereal (optional)<br />6 oz. 1% Milk (8 oz for ag
 es 6-12)</p>\n<p><br /><span style='text-decoration: underline\;'><strong>
 AM Snack</strong></span></p>\n<p>1/4 cup Pretzel Mix<br />4 oz 1% Milk (8 
 oz for ages 6-12)</p>\n<p><br /><span style='text-decoration: underline\;'
 ><strong>Lunch</strong></span></p>\n<p>1/2 cup Mac &amp\; Cheese<br />1/4 
 cup String Beans<br />1/4 cup Pineapples<br />6 oz.1% Milk (ages 6-12 8 oz
 )</p>\n<p><br /><span style='text-decoration: underline\;'><strong>PM Snac
 k</strong></span></p>\n<p>1/2 oz Cinnamon &amp\; Brown Sugar<br />Oatmeal 
 Squares<br />4 oz 1% Milk (8 oz for ages 6-12)</p>
END:VEVENT
END:VCALENDAR
