BEGIN:VCALENDAR
VERSION:2.0
PRODID:-//https://www.denbighchristianacademy.com//NONSGML kigkonsult.se iC
 alcreator 2.29.29//
CALSCALE:GREGORIAN
METHOD:PUBLISH
UID:8603be91-7e4d-45f3-9571-bb2554146164
X-WR-CALNAME:JCal Pro Calendar
X-WR-CALDESC:Your online events calendar
X-WR-TIMEZONE:UTC
BEGIN:VTIMEZONE
TZID:UTC
END:VTIMEZONE
BEGIN:VEVENT
UID:20230525T160000UTC-2578wFuXbu@https://www.denbighchristianacademy.com/
DTSTAMP:20260425T212410Z
CATEGORIES:School Menu
DTSTART:20230529T000000Z
DTEND:20230529T235959Z
SUMMARY:Monday - Closed for Memorial Day
URL:https://www.denbighchristianacademy.com/index.php/school-calendar/lunch
 -menu/10-school-menu/1158-monday-closed-for-memorial-day
END:VEVENT
END:VCALENDAR
