BEGIN:VCALENDAR
VERSION:2.0
PRODID:-//https://www.denbighchristianacademy.com//NONSGML kigkonsult.se iC
 alcreator 2.29.29//
CALSCALE:GREGORIAN
METHOD:PUBLISH
UID:94ae7bb6-81b4-4b79-b251-31c044163492
X-WR-CALNAME:JCal Pro Calendar
X-WR-CALDESC:Your online events calendar
X-WR-TIMEZONE:UTC
BEGIN:VTIMEZONE
TZID:UTC
END:VTIMEZONE
BEGIN:VEVENT
UID:20221014T170000UTC-0483dBkSNv@https://www.denbighchristianacademy.com/
DTSTAMP:20260426T032532Z
CATEGORIES:School Menu
DESCRIPTION:<p><span style='text-decoration: underline\;'><strong>Breakfast
 </strong></span></p>\n<p>1/4-1/2 cupn Oatmeal<br />1/4-1/2 cup Mixed Fruit
 <br />1/4-1/2 cup Cereal (optional)<br />6 oz. 1% Milk (8 oz for ages 6-12
 )</p>\n<p><br /><span style='text-decoration: underline\;'><strong>AM Snac
 k</strong></span></p>\n<p>1/4-1/2 cup WW Gold Fish Crackers<br />4 oz 1% M
 ilk (8 oz for ages 6-12)</p>\n<p><br /><span style='text-decoration: under
 line\;'><strong>Lunch</strong></span></p>\n<p>1 1/2 oz Corn Dogs<br />1/4-
 1/2 cup Tossed Salad w/Dressing<br />1/4 cup Mixed Fruit<br />6 oz.1% Milk
  (ages 6-12 8 oz)</p>\n<p><br /><span style='text-decoration: underline\;'
 ><strong>PM Snack</strong></span></p>\n<p>1/4-1/2 cup Chocolate Chip Cooki
 es<br />4 oz 1% Milk (8 oz for ages 6-12)</p>
DTSTART:20221014T000000Z
DTEND:20221014T235959Z
SUMMARY:Friday
URL:https://www.denbighchristianacademy.com/index.php/school-calendar/lunch
 -menu/10-school-menu/1007-friday
X-ALT-DESC;FMTTYPE=TEXT/HTML:<p><span style='text-decoration: underline\;'>
 <strong>Breakfast</strong></span></p>\n<p>1/4-1/2 cupn Oatmeal<br />1/4-1/
 2 cup Mixed Fruit<br />1/4-1/2 cup Cereal (optional)<br />6 oz. 1% Milk (8
  oz for ages 6-12)</p>\n<p><br /><span style='text-decoration: underline\;
 '><strong>AM Snack</strong></span></p>\n<p>1/4-1/2 cup WW Gold Fish Cracke
 rs<br />4 oz 1% Milk (8 oz for ages 6-12)</p>\n<p><br /><span style='text-
 decoration: underline\;'><strong>Lunch</strong></span></p>\n<p>1 1/2 oz Co
 rn Dogs<br />1/4-1/2 cup Tossed Salad w/Dressing<br />1/4 cup Mixed Fruit<
 br />6 oz.1% Milk (ages 6-12 8 oz)</p>\n<p><br /><span style='text-decorat
 ion: underline\;'><strong>PM Snack</strong></span></p>\n<p>1/4-1/2 cup Cho
 colate Chip Cookies<br />4 oz 1% Milk (8 oz for ages 6-12)</p>
END:VEVENT
END:VCALENDAR
