BEGIN:VCALENDAR
VERSION:2.0
PRODID:-//https://www.denbighchristianacademy.com//NONSGML kigkonsult.se iC
 alcreator 2.29.29//
CALSCALE:GREGORIAN
METHOD:PUBLISH
UID:b683a7ee-2c14-4369-8528-be00a5ffce31
X-WR-CALNAME:JCal Pro Calendar
X-WR-CALDESC:Your online events calendar
X-WR-TIMEZONE:UTC
BEGIN:VTIMEZONE
TZID:UTC
END:VTIMEZONE
BEGIN:VEVENT
UID:20210402T190000UTC-8975J8jXax@http://www.denbighchristianacademy.com/
DTSTAMP:20260425T035312Z
CATEGORIES:DCA Events
DESCRIPTION:<p>Third Marking Period end for 4K and 5K.</p>
DTSTART:20210402T000000Z
DTEND:20210402T235959Z
SUMMARY:Third Marking Period ends (4K-5K)
URL:https://www.denbighchristianacademy.com/index.php/school-calendar/dca-e
 vents/11-dca-events/300-third-marking-period-ends-4k-5k
X-ALT-DESC;FMTTYPE=TEXT/HTML:<p>Third Marking Period end for 4K and 5K.</p>
END:VEVENT
BEGIN:VEVENT
UID:20210405T190000UTC-3298tApNoU@http://www.denbighchristianacademy.com/
DTSTAMP:20260425T035312Z
CATEGORIES:DCA Events
DESCRIPTION:<p>DCA Closed for Resurrection Monday.</p>
DTSTART:20210405T000000Z
DTEND:20210405T235959Z
SUMMARY:Resurrection Monday - DCA Closed
URL:https://www.denbighchristianacademy.com/index.php/school-calendar/dca-e
 vents/11-dca-events/301-resurrection-monday-dca-closed
X-ALT-DESC;FMTTYPE=TEXT/HTML:<p>DCA Closed for Resurrection Monday.</p>
END:VEVENT
BEGIN:VEVENT
UID:20210406T190000UTC-1507kb3omU@http://www.denbighchristianacademy.com/
DTSTAMP:20260425T035312Z
CATEGORIES:DCA Events
DESCRIPTION:<p>Daycare is OPEN during Spring Break April 6 - 9\, 6 am - 6 p
 m.</p>
DTSTART:20210406T060000Z
DTEND:20210409T180000Z
SUMMARY:Daycare OPEN
URL:https://www.denbighchristianacademy.com/index.php/school-calendar/dca-e
 vents/11-dca-events/303-daycare-open
X-ALT-DESC;FMTTYPE=TEXT/HTML:<p>Daycare is OPEN during Spring Break April 6
  - 9\, 6 am - 6 pm.</p>
END:VEVENT
BEGIN:VEVENT
UID:20210406T190000UTC-4263vuPufV@http://www.denbighchristianacademy.com/
DTSTAMP:20260425T035312Z
CATEGORIES:DCA Events
DESCRIPTION:<p>Spring Break for 4K and 5K.</p>
DTSTART:20210406T080000Z
DTEND:20210409T204800Z
SUMMARY:Spring Break - (4K-5K)
URL:https://www.denbighchristianacademy.com/index.php/school-calendar/dca-e
 vents/11-dca-events/302-spring-break-4k-5k
X-ALT-DESC;FMTTYPE=TEXT/HTML:<p>Spring Break for 4K and 5K.</p>
END:VEVENT
BEGIN:VEVENT
UID:20210414T190000UTC-95596fZeBe@http://www.denbighchristianacademy.com/
DTSTAMP:20260425T035312Z
CATEGORIES:DCA Events
DESCRIPTION:<p>Third Marking Period reports issued to 4K and 5K.</p>
DTSTART:20210414T000000Z
DTEND:20210414T235959Z
SUMMARY:Third Marking Period Reports issued (4K-5K)
URL:https://www.denbighchristianacademy.com/index.php/school-calendar/dca-e
 vents/11-dca-events/304-third-marking-period-reports-issued-4k-5k
X-ALT-DESC;FMTTYPE=TEXT/HTML:<p>Third Marking Period reports issued to 4K a
 nd 5K.</p>
END:VEVENT
BEGIN:VEVENT
UID:20210417T100000UTC-3893FZLmma@http://www.denbighchristianacademy.com/
DTSTAMP:20260425T035312Z
CATEGORIES:DCA Events
DESCRIPTION:<p>CANCELLED<br />Open House:<br />Parents\, students\, and pro
 spective<br />parents and children can come&nbsp\;<br />take a look at DCA
 . Current students&nbsp\;<br />will see what their fall class will look<br
  />like.</p>
DTSTART:20210417T100000Z
DTEND:20210417T120000Z
SUMMARY:Open House - CANCELLED
URL:https://www.denbighchristianacademy.com/index.php/school-calendar/dca-e
 vents/11-dca-events/305-open-house-10-am-noon
X-ALT-DESC;FMTTYPE=TEXT/HTML:<p>CANCELLED<br />Open House:<br />Parents\, s
 tudents\, and prospective<br />parents and children can come&nbsp\;<br />t
 ake a look at DCA. Current students&nbsp\;<br />will see what their fall c
 lass will look<br />like.</p>
END:VEVENT
BEGIN:VEVENT
UID:20210419T200000UTC-43591iOphi@http://www.denbighchristianacademy.com/
DTSTAMP:20260425T035312Z
CATEGORIES:DCA Events
DESCRIPTION:<p>Spring and Class Pictures will be taken&nbsp\;<br />for 2 - 
 2 1/2 Year Olds beginning at 8:30 am.</p>
DTSTART:20210419T000000Z
DTEND:20210419T235959Z
SUMMARY:Spring and Class Pictures - 2 - 2 1/2 Year Olds 8:30 am
URL:https://www.denbighchristianacademy.com/index.php/school-calendar/dca-e
 vents/11-dca-events/306-spring-and-class-pictures-2-2-1-2-year-olds-8-30-a
 m
X-ALT-DESC;FMTTYPE=TEXT/HTML:<p>Spring and Class Pictures will be taken&nbs
 p\;<br />for 2 - 2 1/2 Year Olds beginning at 8:30 am.</p>
END:VEVENT
BEGIN:VEVENT
UID:20210420T200000UTC-0226udI5Fa@http://www.denbighchristianacademy.com/
DTSTAMP:20260425T035312Z
CATEGORIES:DCA Events
DESCRIPTION:<p>Spring and Class Pictures will be taken<br />for 3 Year Olds
  beginning at 8:30 am.</p>
DTSTART:20210420T000000Z
DTEND:20210420T235959Z
SUMMARY:Spring and Class Pictures for 3 Year Olds - 8:30 am
URL:https://www.denbighchristianacademy.com/index.php/school-calendar/dca-e
 vents/11-dca-events/307-spring-and-class-pictures-for-3-year-olds-8-30-am
X-ALT-DESC;FMTTYPE=TEXT/HTML:<p>Spring and Class Pictures will be taken<br 
 />for 3 Year Olds beginning at 8:30 am.</p>
END:VEVENT
BEGIN:VEVENT
UID:20210421T200000UTC-56260M0MRL@http://www.denbighchristianacademy.com/
DTSTAMP:20260425T035312Z
CATEGORIES:DCA Events
DESCRIPTION:<p>Spring\, Class\, and Cap and Gown pictures&nbsp\;<br />will 
 be taken for 4K and 5K beginning at 8:30 am.</p>
DTSTART:20210421T000000Z
DTEND:20210421T235959Z
SUMMARY:Spring/Class/Cap & Gown Pictures for 4K & 5K - 8:30 am
URL:https://www.denbighchristianacademy.com/index.php/school-calendar/dca-e
 vents/11-dca-events/308-spring-class-cap-gown-pictures-for-4k-5k-8-30-am
X-ALT-DESC;FMTTYPE=TEXT/HTML:<p>Spring\, Class\, and Cap and Gown pictures&
 nbsp\;<br />will be taken for 4K and 5K beginning at 8:30 am.</p>
END:VEVENT
BEGIN:VEVENT
UID:20210423T200000UTC-6535RpHSDG@http://www.denbighchristianacademy.com/
DTSTAMP:20260425T035312Z
CATEGORIES:DCA Events
DESCRIPTION:<p>Students can dress in Western wear.</p>
DTSTART:20210423T000000Z
DTEND:20210423T235959Z
SUMMARY:Western Day
URL:https://www.denbighchristianacademy.com/index.php/school-calendar/dca-e
 vents/11-dca-events/309-western-day
X-ALT-DESC;FMTTYPE=TEXT/HTML:<p>Students can dress in Western wear.</p>
END:VEVENT
BEGIN:VEVENT
UID:20210429T091500UTC-4755BPdDMd@http://www.denbighchristianacademy.com/
DTSTAMP:20260425T035312Z
CATEGORIES:DCA Events
DESCRIPTION:<p>Grandparent's Day will begin in Chapel in&nbsp\;<br />the sa
 nctuary and will move to the gym<br />once dismissed from the sanctuary.</
 p>
DTSTART:20210429T091500Z
DTEND:20210429T110000Z
SUMMARY:Grandparent's Day
URL:https://www.denbighchristianacademy.com/index.php/school-calendar/dca-e
 vents/11-dca-events/310-grandparent-s-day
X-ALT-DESC;FMTTYPE=TEXT/HTML:<p>Grandparent's Day will begin in Chapel in&n
 bsp\;<br />the sanctuary and will move to the gym<br />once dismissed from
  the sanctuary.</p>
END:VEVENT
END:VCALENDAR
