BEGIN:VCALENDAR
VERSION:2.0
PRODID:-//https://www.denbighchristianacademy.com//NONSGML kigkonsult.se iC
 alcreator 2.29.29//
CALSCALE:GREGORIAN
METHOD:PUBLISH
UID:8012bf6e-3aad-40e0-b5f7-c1f3376f0c69
X-WR-CALNAME:JCal Pro Calendar
X-WR-CALDESC:Your online events calendar
X-WR-TIMEZONE:UTC
BEGIN:VTIMEZONE
TZID:UTC
END:VTIMEZONE
BEGIN:VEVENT
UID:20201106T190000UTC-5832vt3xG3@http://www.denbighchristianacademy.com/
DTSTAMP:20260424T220800Z
CATEGORIES:DCA Events
DESCRIPTION:<p>First Marking Period ends<br />for 4K and 5K.</p>
DTSTART:20201106T000000Z
DTEND:20201106T235959Z
SUMMARY:First Marking Period ends (4K-5K)
URL:https://www.denbighchristianacademy.com/index.php/school-calendar/dca-e
 vents/11-dca-events/261-first-marking-period-ends-4k-5k
X-ALT-DESC;FMTTYPE=TEXT/HTML:<p>First Marking Period ends<br />for 4K and 5
 K.</p>
END:VEVENT
BEGIN:VEVENT
UID:20201111T190000UTC-57979l4HcT@http://www.denbighchristianacademy.com/
DTSTAMP:20260424T220800Z
CATEGORIES:DCA Events
DESCRIPTION:<p>First Marking Period Reports<br />sent home with 4K and 5K.<
 /p>
DTSTART:20201111T000000Z
DTEND:20201111T235959Z
SUMMARY:First Marking Period Reports Issued (4K-5K)
URL:https://www.denbighchristianacademy.com/index.php/school-calendar/dca-e
 vents/11-dca-events/262-first-marking-period-reports-issued-4k-5k
X-ALT-DESC;FMTTYPE=TEXT/HTML:<p>First Marking Period Reports<br />sent home
  with 4K and 5K.</p>
END:VEVENT
BEGIN:VEVENT
UID:20201120T190000UTC-0781aLnsRj@http://www.denbighchristianacademy.com/
DTSTAMP:20260424T220800Z
CATEGORIES:DCA Events
DESCRIPTION:<p>Students can wear mismatched<br />or funny/crazy looking soc
 ks.</p>
DTSTART:20201120T000000Z
DTEND:20201120T235959Z
SUMMARY:Crazy Sock Day
URL:https://www.denbighchristianacademy.com/index.php/school-calendar/dca-e
 vents/11-dca-events/263-crazy-sock-day
X-ALT-DESC;FMTTYPE=TEXT/HTML:<p>Students can wear mismatched<br />or funny/
 crazy looking socks.</p>
END:VEVENT
BEGIN:VEVENT
UID:20201121T120000UTC-3157NbvMlx@http://www.denbighchristianacademy.com/
DTSTAMP:20260424T220800Z
CATEGORIES:DCA Events
DESCRIPTION:<p>Founder's Day Luncheon in Honor<br />of Dorothy B. Collins.&
 nbsp\;</p>
DTSTART:20201121T120000Z
DTEND:20201121T140000Z
SUMMARY:Founder's Day In Honor of Dorothy B. Collins
URL:https://www.denbighchristianacademy.com/index.php/school-calendar/dca-e
 vents/11-dca-events/264-founder-s-day-in-honor-of-dorothy-b-collins
X-ALT-DESC;FMTTYPE=TEXT/HTML:<p>Founder's Day Luncheon in Honor<br />of Dor
 othy B. Collins.&nbsp\;</p>
END:VEVENT
BEGIN:VEVENT
UID:20201126T190000UTC-3672IjzsWl@http://www.denbighchristianacademy.com/
DTSTAMP:20260424T220800Z
CATEGORIES:DCA Events
DESCRIPTION:<p>DCA Closed for Thanksgiving.</p>
DTSTART:20201126T000000Z
DTEND:20201126T235959Z
SUMMARY:Thanksgiving Holiday - DCA Closed
URL:https://www.denbighchristianacademy.com/index.php/school-calendar/dca-e
 vents/11-dca-events/265-thanksgiving-holiday-dca-closed
X-ALT-DESC;FMTTYPE=TEXT/HTML:<p>DCA Closed for Thanksgiving.</p>
END:VEVENT
BEGIN:VEVENT
UID:20201127T190000UTC-82745Zevue@http://www.denbighchristianacademy.com/
DTSTAMP:20260424T220800Z
CATEGORIES:DCA Events
DESCRIPTION:<p>DCA Closed for<br />Thanksgiving Holiday.</p>
DTSTART:20201127T000000Z
DTEND:20201127T235959Z
SUMMARY:Thanksgiving Holiday - DCA Closed
URL:https://www.denbighchristianacademy.com/index.php/school-calendar/dca-e
 vents/11-dca-events/266-thanksgiving-holiday-dca-closed
X-ALT-DESC;FMTTYPE=TEXT/HTML:<p>DCA Closed for<br />Thanksgiving Holiday.</
 p>
END:VEVENT
END:VCALENDAR
