BEGIN:VCALENDAR
VERSION:2.0
PRODID:-//https://www.denbighchristianacademy.com//NONSGML kigkonsult.se iC
 alcreator 2.29.29//
CALSCALE:GREGORIAN
METHOD:PUBLISH
UID:9abc671e-1499-469a-8ba5-c2233e6540bd
X-WR-CALNAME:JCal Pro Calendar
X-WR-CALDESC:Your online events calendar
X-WR-TIMEZONE:UTC
BEGIN:VTIMEZONE
TZID:UTC
END:VTIMEZONE
BEGIN:VEVENT
UID:20200601T060000UTC-03304vZEdN@http://dca.37west.com/
DTSTAMP:20260424T192252Z
CATEGORIES:DCA Events
DTSTART:20200601T000000Z
DTEND:20200601T235959Z
SUMMARY:Summer Fun Day
URL:https://www.denbighchristianacademy.com/index.php/school-calendar/dca-e
 vents/11-dca-events/56-summer-fun-day
END:VEVENT
BEGIN:VEVENT
UID:20200605T060000UTC-7850w8pVVl@http://dca.37west.com/
DTSTAMP:20260424T192252Z
CATEGORIES:DCA Events
DTSTART:20200605T000000Z
DTEND:20200605T235959Z
SUMMARY:Last Day for 4K & 5K Students (43 days)
URL:https://www.denbighchristianacademy.com/index.php/school-calendar/dca-e
 vents/11-dca-events/58-last-day-for-4k-5k-students-43-days
END:VEVENT
BEGIN:VEVENT
UID:20200605T220000UTC-99028H0iiz@http://dca.37west.com/
DTSTAMP:20260424T192252Z
CATEGORIES:DCA Events
DTSTART:20200605T000000Z
DTEND:20200605T235959Z
SUMMARY:Cancelled - 4K Awards and 5K Graduation 10:00 am
URL:https://www.denbighchristianacademy.com/index.php/school-calendar/dca-e
 vents/11-dca-events/57-4k-awards-and-5k-graduation-10-00-am
END:VEVENT
BEGIN:VEVENT
UID:20200615T060000UTC-7841ra2MpD@http://dca.37west.com/
DTSTAMP:20260424T192252Z
CATEGORIES:DCA Events
DTSTART:20200615T060000Z
DTEND:20200615T070000Z
SUMMARY:Summer Program Starts (ages 2 – 12 years old)
URL:https://www.denbighchristianacademy.com/index.php/school-calendar/dca-e
 vents/11-dca-events/59-summer-program-starts-ages-2-12-years-old
END:VEVENT
END:VCALENDAR
