BEGIN:VCALENDAR
VERSION:2.0
PRODID:-//https://www.denbighchristianacademy.com//NONSGML kigkonsult.se iC
 alcreator 2.29.29//
CALSCALE:GREGORIAN
METHOD:PUBLISH
UID:48d42864-b361-43df-b62c-14817b292347
X-WR-CALNAME:JCal Pro Calendar
X-WR-CALDESC:Your online events calendar
X-WR-TIMEZONE:UTC
BEGIN:VTIMEZONE
TZID:UTC
END:VTIMEZONE
BEGIN:VEVENT
UID:20260126T190000UTC-9608d2xrHU@https://www.denbighchristianacademy.com/
DTSTAMP:20260425T030746Z
CATEGORIES:DCA Events
DESCRIPTION:<p>Second semester begins today for 4K and 5K.</p>
DTSTART:20260126T000000Z
DTEND:20260126T235959Z
SUMMARY:2nd Semester Begins (4K-5K)
URL:https://www.denbighchristianacademy.com/index.php/school-calendar/dca-e
 vents/11-dca-events/1796-2nd-semester-begins-4k-5k
X-ALT-DESC;FMTTYPE=TEXT/HTML:<p>Second semester begins today for 4K and 5K.
 </p>
END:VEVENT
BEGIN:VEVENT
UID:20260128T190000UTC-64748e8vRw@https://www.denbighchristianacademy.com/
DTSTAMP:20260425T030746Z
CATEGORIES:DCA Events
DESCRIPTION:<p>Second Marking Period Reports go home with 4K and 5K today. 
 Please sign and return tomorrow.</p>
DTSTART:20260128T000000Z
DTEND:20260128T235959Z
SUMMARY:2nd Marking Period Reports issued (4K-5K)
URL:https://www.denbighchristianacademy.com/index.php/school-calendar/dca-e
 vents/11-dca-events/1797-2nd-marking-period-reports-issued-4k-5k
X-ALT-DESC;FMTTYPE=TEXT/HTML:<p>Second Marking Period Reports go home with 
 4K and 5K today. Please sign and return tomorrow.</p>
END:VEVENT
END:VCALENDAR
