BEGIN:VCALENDAR
VERSION:2.0
PRODID:-//https://www.denbighchristianacademy.com//NONSGML kigkonsult.se iC
 alcreator 2.29.29//
CALSCALE:GREGORIAN
METHOD:PUBLISH
UID:f41dbf8d-5580-4cf9-a649-cb1937bdeb23
X-WR-CALNAME:JCal Pro Calendar
X-WR-CALDESC:Your online events calendar
X-WR-TIMEZONE:UTC
BEGIN:VTIMEZONE
TZID:UTC
END:VTIMEZONE
BEGIN:VEVENT
UID:20251017T160000UTC-0775RAdLF4@https://www.denbighchristianacademy.com/
DTSTAMP:20260425T111417Z
CATEGORIES:DCA Events
DESCRIPTION:<p>Students can wear their craziest\, funniest\, mismatched soc
 ks.</p>
DTSTART:20251017T000000Z
DTEND:20251017T235959Z
SUMMARY:Crazy Sock Day
URL:https://www.denbighchristianacademy.com/index.php/school-calendar/dca-e
 vents/11-dca-events/1777-crazy-sock-day
X-ALT-DESC;FMTTYPE=TEXT/HTML:<p>Students can wear their craziest\, funniest
 \, mismatched socks.</p>
END:VEVENT
END:VCALENDAR
