BEGIN:VCALENDAR
VERSION:2.0
PRODID:-//https://www.denbighchristianacademy.com//NONSGML kigkonsult.se iC
 alcreator 2.29.29//
CALSCALE:GREGORIAN
METHOD:PUBLISH
UID:a8421f84-1ef3-4325-a986-dfca4c2619a2
X-WR-CALNAME:JCal Pro Calendar
X-WR-CALDESC:Your online events calendar
X-WR-TIMEZONE:UTC
BEGIN:VTIMEZONE
TZID:UTC
END:VTIMEZONE
BEGIN:VEVENT
UID:20241115T140000UTC-7440aa8W6V@https://www.denbighchristianacademy.com/
DTSTAMP:20260425T043446Z
CATEGORIES:DCA Events
DESCRIPTION:<p>A day to wear your Western items.&nbsp\;</p>
DTSTART:20241115T000000Z
DTEND:20241115T235959Z
SUMMARY:Western Day
URL:https://www.denbighchristianacademy.com/index.php/school-calendar/dca-e
 vents/11-dca-events/1546-western-day
X-ALT-DESC;FMTTYPE=TEXT/HTML:<p>A day to wear your Western items.&nbsp\;</p
 >
END:VEVENT
END:VCALENDAR
