BEGIN:VCALENDAR
VERSION:2.0
PRODID:-//https://www.denbighchristianacademy.com//NONSGML kigkonsult.se iC
 alcreator 2.29.29//
CALSCALE:GREGORIAN
METHOD:PUBLISH
UID:380b7a33-f8e1-483a-88fa-567783eb8a03
X-WR-CALNAME:JCal Pro Calendar
X-WR-CALDESC:Your online events calendar
X-WR-TIMEZONE:UTC
BEGIN:VTIMEZONE
TZID:UTC
END:VTIMEZONE
BEGIN:VEVENT
UID:20240101T060000UTC-8997HP9PsP@https://www.denbighchristianacademy.com/
DTSTAMP:20260425T041951Z
CATEGORIES:DCA Events
DESCRIPTION:<p>All of DCA is CLOSED for New Year's Day.</p>
DTSTART:20240101T000000Z
DTEND:20240101T235959Z
SUMMARY:New Year's Day - All of DCA CLOSED
URL:https://www.denbighchristianacademy.com/index.php/school-calendar/dca-e
 vents/11-dca-events/1196-new-year-s-day-all-of-dca-closed
X-ALT-DESC;FMTTYPE=TEXT/HTML:<p>All of DCA is CLOSED for New Year's Day.</p
 >
END:VEVENT
BEGIN:VEVENT
UID:20240102T060000UTC-9874KBudEd@https://www.denbighchristianacademy.com/
DTSTAMP:20260425T041951Z
CATEGORIES:DCA Events
DTSTART:20240102T000000Z
DTEND:20240102T235959Z
SUMMARY:School Reopens
URL:https://www.denbighchristianacademy.com/index.php/school-calendar/dca-e
 vents/11-dca-events/1197-school-reopens
END:VEVENT
END:VCALENDAR
