BEGIN:VCALENDAR
VERSION:2.0
PRODID:-//https://www.denbighchristianacademy.com//NONSGML kigkonsult.se iC
 alcreator 2.29.29//
CALSCALE:GREGORIAN
METHOD:PUBLISH
UID:7111e156-2a4e-466c-a405-55f1a91ae2bd
X-WR-CALNAME:JCal Pro Calendar
X-WR-CALDESC:Your online events calendar
X-WR-TIMEZONE:UTC
BEGIN:VTIMEZONE
TZID:UTC
END:VTIMEZONE
BEGIN:VEVENT
UID:20230929T060000UTC-2923rOfeAS@https://www.denbighchristianacademy.com/
DTSTAMP:20260425T115212Z
CATEGORIES:DCA Events
DESCRIPTION:First Interim Period ernds today for 4K and 5K.
DTSTART:20230929T000000Z
DTEND:20230929T235959Z
SUMMARY:1st Interim Period ends (4K-5K)
URL:https://www.denbighchristianacademy.com/index.php/school-calendar/dca-e
 vents/11-dca-events/1178-1st-interim-period-end-4k-5k
X-ALT-DESC;FMTTYPE=TEXT/HTML:First Interim Period ernds today for 4K and 5K
 .
END:VEVENT
END:VCALENDAR
