BEGIN:VCALENDAR
VERSION:2.0
PRODID:-//https://www.denbighchristianacademy.com//NONSGML kigkonsult.se iC
 alcreator 2.29.29//
CALSCALE:GREGORIAN
METHOD:PUBLISH
UID:38f122e8-4e22-44d9-877e-123e1fc51f6f
X-WR-CALNAME:JCal Pro Calendar
X-WR-CALDESC:Your online events calendar
X-WR-TIMEZONE:UTC
BEGIN:VTIMEZONE
TZID:UTC
END:VTIMEZONE
BEGIN:VEVENT
UID:20230904T130000UTC-0512t9uxnv@https://www.denbighchristianacademy.com/
DTSTAMP:20260425T102044Z
CATEGORIES:DCA Events
DESCRIPTION:<p>All of DCA CLOSED</p>
DTSTART:20230904T000000Z
DTEND:20230904T235959Z
SUMMARY:Labor Day - All of DCA CLOSED
URL:https://www.denbighchristianacademy.com/index.php/school-calendar/dca-e
 vents/11-dca-events/1176-labor-day-all-of-dca-closed
X-ALT-DESC;FMTTYPE=TEXT/HTML:<p>All of DCA CLOSED</p>
END:VEVENT
END:VCALENDAR
