BEGIN:VCALENDAR
VERSION:2.0
PRODID:-//https://www.denbighchristianacademy.com//NONSGML kigkonsult.se iC
 alcreator 2.29.29//
CALSCALE:GREGORIAN
METHOD:PUBLISH
UID:a701b289-f7e0-4cef-95a0-9e867fb9ce2f
X-WR-CALNAME:JCal Pro Calendar
X-WR-CALDESC:Your online events calendar
X-WR-TIMEZONE:UTC
BEGIN:VTIMEZONE
TZID:UTC
END:VTIMEZONE
BEGIN:VEVENT
UID:20221124T170000UTC-4476zU2jI1@https://www.denbighchristianacademy.com/
DTSTAMP:20260425T042123Z
CATEGORIES:DCA Events
DESCRIPTION:<p>DCA will be closed for the Thanksgiving holiday.</p>
DTSTART:20221124T170000Z
DTEND:20221125T180000Z
SUMMARY:Thanksgiving Holiday - All of DCA CLOSED
URL:https://www.denbighchristianacademy.com/index.php/school-calendar/dca-e
 vents/11-dca-events/959-thanksgiving-holiday-all-of-dca-closed
X-ALT-DESC;FMTTYPE=TEXT/HTML:<p>DCA will be closed for the Thanksgiving hol
 iday.</p>
END:VEVENT
END:VCALENDAR
