BEGIN:VCALENDAR
VERSION:2.0
PRODID:-//https://www.denbighchristianacademy.com//NONSGML kigkonsult.se iC
 alcreator 2.29.29//
CALSCALE:GREGORIAN
METHOD:PUBLISH
UID:f8fbd827-667d-4a3b-983b-9af1417ca294
X-WR-CALNAME:JCal Pro Calendar
X-WR-CALDESC:Your online events calendar
X-WR-TIMEZONE:UTC
BEGIN:VTIMEZONE
TZID:UTC
END:VTIMEZONE
BEGIN:VEVENT
UID:20211221T060000UTC-2970EPaAIj@http://www.denbighchristianacademy.com/
DTSTAMP:20260425T025029Z
CATEGORIES:DCA Events
DESCRIPTION:<p>Second Interim Reports go home today for 4K and 5K.</p>
DTSTART:20211221T000000Z
DTEND:20211221T235959Z
SUMMARY:2nd Interim Reports issued (4K-5K)
URL:https://www.denbighchristianacademy.com/index.php/school-calendar/dca-e
 vents/11-dca-events/655-2nd-interim-reports-issued-4k-5k
X-ALT-DESC;FMTTYPE=TEXT/HTML:<p>Second Interim Reports go home today for 4K
  and 5K.</p>
END:VEVENT
BEGIN:VEVENT
UID:20211223T060000UTC-09230UZXWV@http://www.denbighchristianacademy.com/
DTSTAMP:20260425T025029Z
CATEGORIES:DCA Events
DESCRIPTION:<p>Christmas Holiday. All of DCA will be CLOSED December 23 - 3
 1\, 2021.&nbsp\;<br />DCA will re-open Monday\, January 3\, 2022.</p>
DTSTART:20211223T060000Z
DTEND:20211231T180000Z
SUMMARY:Christmas Holiday - All of DCA CLOSED
URL:https://www.denbighchristianacademy.com/index.php/school-calendar/dca-e
 vents/11-dca-events/656-christmas-holiday-all-of-dca-closed
X-ALT-DESC;FMTTYPE=TEXT/HTML:<p>Christmas Holiday. All of DCA will be CLOSE
 D December 23 - 31\, 2021.&nbsp\;<br />DCA will re-open Monday\, January 3
 \, 2022.</p>
END:VEVENT
END:VCALENDAR
