BEGIN:VCALENDAR
VERSION:2.0
PRODID:-//https://www.denbighchristianacademy.com//NONSGML kigkonsult.se iC
 alcreator 2.29.29//
CALSCALE:GREGORIAN
METHOD:PUBLISH
UID:5a8fff7a-4df3-4b54-9cd2-6f0d50a5ae4e
X-WR-CALNAME:JCal Pro Calendar
X-WR-CALDESC:Your online events calendar
X-WR-TIMEZONE:UTC
BEGIN:VTIMEZONE
TZID:UTC
END:VTIMEZONE
BEGIN:VEVENT
UID:20211018T083000UTC-1264hJWM4i@http://www.denbighchristianacademy.com/
DTSTAMP:20260425T030748Z
CATEGORIES:DCA Events
DESCRIPTION:<p>Individual &amp\; class photos for 2 - 2 1/2 year olds will 
 begin at 8:30 a.m. in the gym.</p>
DTSTART:20211018T083000Z
DTEND:20211018T083000Z
SUMMARY:Individual & Class Photos - (2-2 1/2 year olds)
URL:https://www.denbighchristianacademy.com/index.php/school-calendar/dca-e
 vents/11-dca-events/637-individual-student-photos-2-2-1-2-year-olds
X-ALT-DESC;FMTTYPE=TEXT/HTML:<p>Individual &amp\; class photos for 2 - 2 1/
 2 year olds will begin at 8:30 a.m. in the gym.</p>
END:VEVENT
BEGIN:VEVENT
UID:20211020T083000UTC-4363jJLMBG@http://www.denbighchristianacademy.com/
DTSTAMP:20260425T030748Z
CATEGORIES:DCA Events
DESCRIPTION:<p>Individual and class photos will begin at 8:30 a.m. in the g
 ym.</p>
DTSTART:20211019T083000Z
DTEND:20211019T083000Z
SUMMARY:Individual & Class Photos - (4 & 5 year olds)
URL:https://www.denbighchristianacademy.com/index.php/school-calendar/dca-e
 vents/11-dca-events/639-individual-class-photos-4-5-year-olds
X-ALT-DESC;FMTTYPE=TEXT/HTML:<p>Individual and class photos will begin at 8
 :30 a.m. in the gym.</p>
END:VEVENT
BEGIN:VEVENT
UID:20211019T083000UTC-9694sWpzPJ@http://www.denbighchristianacademy.com/
DTSTAMP:20260425T030748Z
CATEGORIES:DCA Events
DESCRIPTION:<p>Individual &amp\; Class Photos for 3 year olds will begin at
  8:30 a.m. in the gym.</p>
DTSTART:20211020T000000Z
DTEND:20211020T235959Z
SUMMARY:Individual & Class Photos - (3 year olds)
URL:https://www.denbighchristianacademy.com/index.php/school-calendar/dca-e
 vents/11-dca-events/638-individual-student-photos-3-year-olds
X-ALT-DESC;FMTTYPE=TEXT/HTML:<p>Individual &amp\; Class Photos for 3 year o
 lds will begin at 8:30 a.m. in the gym.</p>
END:VEVENT
BEGIN:VEVENT
UID:20211022T160000UTC-8594SWzAtl@http://www.denbighchristianacademy.com/
DTSTAMP:20260425T030748Z
CATEGORIES:DCA Events
DESCRIPTION:<p>Twin Day</p>
DTSTART:20211022T000000Z
DTEND:20211022T235959Z
SUMMARY:Twin Day
URL:https://www.denbighchristianacademy.com/index.php/school-calendar/dca-e
 vents/11-dca-events/640-twin-day
X-ALT-DESC;FMTTYPE=TEXT/HTML:<p>Twin Day</p>
END:VEVENT
END:VCALENDAR
