BEGIN:VCALENDAR
VERSION:2.0
PRODID:-//https://www.denbighchristianacademy.com//NONSGML kigkonsult.se iC
 alcreator 2.29.29//
CALSCALE:GREGORIAN
METHOD:PUBLISH
UID:f6dfeb48-2e01-4423-869b-3206a88b42a1
X-WR-CALNAME:JCal Pro Calendar
X-WR-CALDESC:Your online events calendar
X-WR-TIMEZONE:UTC
BEGIN:VTIMEZONE
TZID:UTC
END:VTIMEZONE
BEGIN:VEVENT
UID:20210514T200000UTC-6990Accsui@http://www.denbighchristianacademy.com/
DTSTAMP:20260425T024227Z
CATEGORIES:DCA Events
DESCRIPTION:<p>Fourth Interim Period ends today for 4K and 5K.</p>
DTSTART:20210514T000000Z
DTEND:20210514T235959Z
SUMMARY:Fourth Interim Period ends (4K-5K)
URL:https://www.denbighchristianacademy.com/index.php/school-calendar/dca-e
 vents/11-dca-events/320-fourth-interim-period-ends-4k-5k
X-ALT-DESC;FMTTYPE=TEXT/HTML:<p>Fourth Interim Period ends today for 4K and
  5K.</p>
END:VEVENT
END:VCALENDAR
