BEGIN:VCALENDAR
VERSION:2.0
PRODID:-//https://www.denbighchristianacademy.com//NONSGML kigkonsult.se iC
 alcreator 2.29.29//
CALSCALE:GREGORIAN
METHOD:PUBLISH
UID:512af1cc-35cc-4dd4-9937-81d1632df643
X-WR-CALNAME:JCal Pro Calendar
X-WR-CALDESC:Your online events calendar
X-WR-TIMEZONE:UTC
BEGIN:VTIMEZONE
TZID:UTC
END:VTIMEZONE
BEGIN:VEVENT
UID:20210429T091500UTC-4755BPdDMd@http://www.denbighchristianacademy.com/
DTSTAMP:20260425T024934Z
CATEGORIES:DCA Events
DESCRIPTION:<p>Grandparent's Day will begin in Chapel in&nbsp\;<br />the sa
 nctuary and will move to the gym<br />once dismissed from the sanctuary.</
 p>
DTSTART:20210429T091500Z
DTEND:20210429T110000Z
SUMMARY:Grandparent's Day
URL:https://www.denbighchristianacademy.com/index.php/school-calendar/dca-e
 vents/11-dca-events/310-grandparent-s-day
X-ALT-DESC;FMTTYPE=TEXT/HTML:<p>Grandparent's Day will begin in Chapel in&n
 bsp\;<br />the sanctuary and will move to the gym<br />once dismissed from
  the sanctuary.</p>
END:VEVENT
END:VCALENDAR
