BEGIN:VCALENDAR
VERSION:2.0
PRODID:-//https://www.denbighchristianacademy.com//NONSGML kigkonsult.se iC
 alcreator 2.29.29//
CALSCALE:GREGORIAN
METHOD:PUBLISH
UID:e362b55a-b9b6-40c3-91d4-ed9091f5e5e3
X-WR-CALNAME:JCal Pro Calendar
X-WR-CALDESC:Your online events calendar
X-WR-TIMEZONE:UTC
BEGIN:VTIMEZONE
TZID:UTC
END:VTIMEZONE
BEGIN:VEVENT
UID:20210302T190000UTC-8732Dtuhgm@http://www.denbighchristianacademy.com/
DTSTAMP:20260425T035506Z
CATEGORIES:DCA Events
DESCRIPTION:<p>Students have fun celebrating Dr. Seuss Day.</p>
DTSTART:20210302T000000Z
DTEND:20210302T235959Z
SUMMARY:Dr. Seuss Day
URL:https://www.denbighchristianacademy.com/index.php/school-calendar/dca-e
 vents/11-dca-events/297-dr-seuss-day
X-ALT-DESC;FMTTYPE=TEXT/HTML:<p>Students have fun celebrating Dr. Seuss Day
 .</p>
END:VEVENT
BEGIN:VEVENT
UID:20210305T190000UTC-0640jxir4B@http://www.denbighchristianacademy.com/
DTSTAMP:20260425T035506Z
CATEGORIES:DCA Events
DESCRIPTION:<p>Third Interim Period ends for 4K and 5K.</p>
DTSTART:20210305T000000Z
DTEND:20210305T235959Z
SUMMARY:Third Interim Period ends (4K-5K)
URL:https://www.denbighchristianacademy.com/index.php/school-calendar/dca-e
 vents/11-dca-events/298-third-interim-period-ends-4k-5k
X-ALT-DESC;FMTTYPE=TEXT/HTML:<p>Third Interim Period ends for 4K and 5K.</p
 >
END:VEVENT
END:VCALENDAR
