BEGIN:VCALENDAR
VERSION:2.0
PRODID:-//https://www.denbighchristianacademy.com//NONSGML kigkonsult.se iC
 alcreator 2.29.29//
CALSCALE:GREGORIAN
METHOD:PUBLISH
UID:e0bc2461-7ffd-4af6-91b2-a95c8631a4cd
X-WR-CALNAME:JCal Pro Calendar
X-WR-CALDESC:Your online events calendar
X-WR-TIMEZONE:UTC
BEGIN:VTIMEZONE
TZID:UTC
END:VTIMEZONE
BEGIN:VEVENT
UID:20210226T190000UTC-9539n4K3VX@http://www.denbighchristianacademy.com/
DTSTAMP:20260425T035442Z
CATEGORIES:DCA Events
DESCRIPTION:<p>Students can wear outfits representing those<br />in a field
  of work that are community helpers.</p>
DTSTART:20210226T000000Z
DTEND:20210226T235959Z
SUMMARY:Community Helper Day
URL:https://www.denbighchristianacademy.com/index.php/school-calendar/dca-e
 vents/11-dca-events/296-community-helper-day
X-ALT-DESC;FMTTYPE=TEXT/HTML:<p>Students can wear outfits representing thos
 e<br />in a field of work that are community helpers.</p>
END:VEVENT
END:VCALENDAR
