BEGIN:VCALENDAR
VERSION:2.0
PRODID:-//https://www.denbighchristianacademy.com//NONSGML kigkonsult.se iC
 alcreator 2.29.29//
CALSCALE:GREGORIAN
METHOD:PUBLISH
UID:de72b603-d056-4f1f-b55e-a36cd7bff2af
X-WR-CALNAME:JCal Pro Calendar
X-WR-CALDESC:Your online events calendar
X-WR-TIMEZONE:UTC
BEGIN:VTIMEZONE
TZID:UTC
END:VTIMEZONE
BEGIN:VEVENT
UID:20210215T190000UTC-3529U0s8WN@http://www.denbighchristianacademy.com/
DTSTAMP:20260425T035537Z
CATEGORIES:DCA Events
DESCRIPTION:<p>President's Day - DCA Closed</p>
DTSTART:20210215T000000Z
DTEND:20210215T235959Z
SUMMARY:President's Day - DCA Closed
URL:https://www.denbighchristianacademy.com/index.php/school-calendar/dca-e
 vents/11-dca-events/295-president-s-day-dca-closed
X-ALT-DESC;FMTTYPE=TEXT/HTML:<p>President's Day - DCA Closed</p>
END:VEVENT
END:VCALENDAR
